BEGIN:VCALENDAR
VERSION:2.0
PRODID:https://www.kufer.de/kuferweb / DE
METHOD:PUBLISH
CALSCALE:GREGORIAN
X-WR-TIMEZONE:Europe/Berlin
BEGIN:VTIMEZONE
TZID:Europe/Berlin
X-LIC-LOCATION:Europe/Berlin
BEGIN:DAYLIGHT
TZOFFSETFROM:+0100
TZOFFSETTO:+0200
TZNAME:CEST
DTSTART:19700329T020000
RRULE:FREQ=YEARLY;INTERVAL=1;BYDAY=-1SU;BYMONTH=3
END:DAYLIGHT
BEGIN:STANDARD
TZOFFSETFROM:+0200
TZOFFSETTO:+0100
TZNAME:CET
DTSTART:19701025T030000
RRULE:FREQ=YEARLY;INTERVAL=1;BYDAY=-1SU;BYMONTH=10
END:STANDARD
END:VTIMEZONE
BEGIN:VEVENT
DTSTAMP:20260421T131439
DTSTART;TZID=Europe/Berlin:20260622T153000
DTEND;TZID=Europe/Berlin:20260622T193000
UID:BH60134-20260622T153000@VHSALTENBURGER LAND
SUMMARY:Lebens-Uni: Mindset - der Schlüssel zum Erfolg (BH60134) 
LOCATION:VHS SLN, Raum 2, Karl-Liebknecht-Straße 2-4, 04626 Schmölln
END:VEVENT
END:VCALENDAR