BEGIN:VCALENDAR
VERSION:2.0
PRODID:https://www.kufer.de/kuferweb / DE
METHOD:PUBLISH
CALSCALE:GREGORIAN
X-WR-TIMEZONE:Europe/Berlin
BEGIN:VTIMEZONE
TZID:Europe/Berlin
X-LIC-LOCATION:Europe/Berlin
BEGIN:DAYLIGHT
TZOFFSETFROM:+0100
TZOFFSETTO:+0200
TZNAME:CEST
DTSTART:19700329T020000
RRULE:FREQ=YEARLY;INTERVAL=1;BYDAY=-1SU;BYMONTH=3
END:DAYLIGHT
BEGIN:STANDARD
TZOFFSETFROM:+0200
TZOFFSETTO:+0100
TZNAME:CET
DTSTART:19701025T030000
RRULE:FREQ=YEARLY;INTERVAL=1;BYDAY=-1SU;BYMONTH=10
END:STANDARD
END:VTIMEZONE
BEGIN:VEVENT
DTSTAMP:20260421T120313
DTSTART;TZID=Europe/Berlin:20260224T181500
DTEND;TZID=Europe/Berlin:20260224T194500
UID:BH4021-20260224T181500@VHSALTENBURGER LAND
SUMMARY:Englisch B1 (BH4021) 
LOCATION:VHS SLN, Raum 1, Karl-Liebknecht-Straße 2-4, 04626 Schmölln
END:VEVENT
BEGIN:VEVENT
DTSTAMP:20260421T120313
DTSTART;TZID=Europe/Berlin:20260310T181500
DTEND;TZID=Europe/Berlin:20260310T194500
UID:BH4021-20260310T181500@VHSALTENBURGER LAND
SUMMARY:Englisch B1 (BH4021) 
LOCATION:VHS SLN, Raum 1, Karl-Liebknecht-Straße 2-4, 04626 Schmölln
END:VEVENT
BEGIN:VEVENT
DTSTAMP:20260421T120313
DTSTART;TZID=Europe/Berlin:20260317T181500
DTEND;TZID=Europe/Berlin:20260317T194500
UID:BH4021-20260317T181500@VHSALTENBURGER LAND
SUMMARY:Englisch B1 (BH4021) 
LOCATION:VHS SLN, Raum 1, Karl-Liebknecht-Straße 2-4, 04626 Schmölln
END:VEVENT
BEGIN:VEVENT
DTSTAMP:20260421T120313
DTSTART;TZID=Europe/Berlin:20260324T181500
DTEND;TZID=Europe/Berlin:20260324T194500
UID:BH4021-20260324T181500@VHSALTENBURGER LAND
SUMMARY:Englisch B1 (BH4021) 
LOCATION:VHS SLN, Raum 1, Karl-Liebknecht-Straße 2-4, 04626 Schmölln
END:VEVENT
BEGIN:VEVENT
DTSTAMP:20260421T120313
DTSTART;TZID=Europe/Berlin:20260331T181500
DTEND;TZID=Europe/Berlin:20260331T194500
UID:BH4021-20260331T181500@VHSALTENBURGER LAND
SUMMARY:Englisch B1 (BH4021) 
LOCATION:VHS SLN, Raum 1, Karl-Liebknecht-Straße 2-4, 04626 Schmölln
END:VEVENT
BEGIN:VEVENT
DTSTAMP:20260421T120313
DTSTART;TZID=Europe/Berlin:20260421T181500
DTEND;TZID=Europe/Berlin:20260421T194500
UID:BH4021-20260421T181500@VHSALTENBURGER LAND
SUMMARY:Englisch B1 (BH4021) 
LOCATION:VHS SLN, Raum 1, Karl-Liebknecht-Straße 2-4, 04626 Schmölln
END:VEVENT
BEGIN:VEVENT
DTSTAMP:20260421T120313
DTSTART;TZID=Europe/Berlin:20260428T181500
DTEND;TZID=Europe/Berlin:20260428T194500
UID:BH4021-20260428T181500@VHSALTENBURGER LAND
SUMMARY:Englisch B1 (BH4021) 
LOCATION:VHS SLN, Raum 1, Karl-Liebknecht-Straße 2-4, 04626 Schmölln
END:VEVENT
BEGIN:VEVENT
DTSTAMP:20260421T120313
DTSTART;TZID=Europe/Berlin:20260505T181500
DTEND;TZID=Europe/Berlin:20260505T194500
UID:BH4021-20260505T181500@VHSALTENBURGER LAND
SUMMARY:Englisch B1 (BH4021) 
LOCATION:VHS SLN, Raum 1, Karl-Liebknecht-Straße 2-4, 04626 Schmölln
END:VEVENT
BEGIN:VEVENT
DTSTAMP:20260421T120313
DTSTART;TZID=Europe/Berlin:20260512T181500
DTEND;TZID=Europe/Berlin:20260512T194500
UID:BH4021-20260512T181500@VHSALTENBURGER LAND
SUMMARY:Englisch B1 (BH4021) 
LOCATION:VHS SLN, Raum 1, Karl-Liebknecht-Straße 2-4, 04626 Schmölln
END:VEVENT
BEGIN:VEVENT
DTSTAMP:20260421T120313
DTSTART;TZID=Europe/Berlin:20260519T181500
DTEND;TZID=Europe/Berlin:20260519T194500
UID:BH4021-20260519T181500@VHSALTENBURGER LAND
SUMMARY:Englisch B1 (BH4021) 
LOCATION:VHS SLN, Raum 1, Karl-Liebknecht-Straße 2-4, 04626 Schmölln
END:VEVENT
END:VCALENDAR