BEGIN:VCALENDAR
VERSION:2.0
PRODID:https://www.kufer.de/kuferweb / DE
METHOD:PUBLISH
CALSCALE:GREGORIAN
X-WR-TIMEZONE:Europe/Berlin
BEGIN:VTIMEZONE
TZID:Europe/Berlin
X-LIC-LOCATION:Europe/Berlin
BEGIN:DAYLIGHT
TZOFFSETFROM:+0100
TZOFFSETTO:+0200
TZNAME:CEST
DTSTART:19700329T020000
RRULE:FREQ=YEARLY;INTERVAL=1;BYDAY=-1SU;BYMONTH=3
END:DAYLIGHT
BEGIN:STANDARD
TZOFFSETFROM:+0200
TZOFFSETTO:+0100
TZNAME:CET
DTSTART:19701025T030000
RRULE:FREQ=YEARLY;INTERVAL=1;BYDAY=-1SU;BYMONTH=10
END:STANDARD
END:VTIMEZONE
BEGIN:VEVENT
DTSTAMP:20260421T095920
DTSTART;TZID=Europe/Berlin:20260120T183000
DTEND;TZID=Europe/Berlin:20260120T200000
UID:BH4020-20260120T183000@VHSALTENBURGER LAND
SUMMARY:Englisch A2 (BH4020) 
LOCATION:VHS ABG, Hospitalplatz 6, Raum 15, Hospitalplatz 6, 04600 Altenburg
END:VEVENT
BEGIN:VEVENT
DTSTAMP:20260421T095920
DTSTART;TZID=Europe/Berlin:20260127T183000
DTEND;TZID=Europe/Berlin:20260127T200000
UID:BH4020-20260127T183000@VHSALTENBURGER LAND
SUMMARY:Englisch A2 (BH4020) 
LOCATION:VHS ABG, Hospitalplatz 6, Raum 15, Hospitalplatz 6, 04600 Altenburg
END:VEVENT
BEGIN:VEVENT
DTSTAMP:20260421T095920
DTSTART;TZID=Europe/Berlin:20260203T183000
DTEND;TZID=Europe/Berlin:20260203T200000
UID:BH4020-20260203T183000@VHSALTENBURGER LAND
SUMMARY:Englisch A2 (BH4020) 
LOCATION:VHS ABG, Hospitalplatz 6, Raum 15, Hospitalplatz 6, 04600 Altenburg
END:VEVENT
BEGIN:VEVENT
DTSTAMP:20260421T095920
DTSTART;TZID=Europe/Berlin:20260210T183000
DTEND;TZID=Europe/Berlin:20260210T200000
UID:BH4020-20260210T183000@VHSALTENBURGER LAND
SUMMARY:Englisch A2 (BH4020) 
LOCATION:VHS ABG, Hospitalplatz 6, Raum 15, Hospitalplatz 6, 04600 Altenburg
END:VEVENT
BEGIN:VEVENT
DTSTAMP:20260421T095920
DTSTART;TZID=Europe/Berlin:20260224T183000
DTEND;TZID=Europe/Berlin:20260224T200000
UID:BH4020-20260224T183000@VHSALTENBURGER LAND
SUMMARY:Englisch A2 (BH4020) 
LOCATION:VHS ABG, Hospitalplatz 6, Raum 15, Hospitalplatz 6, 04600 Altenburg
END:VEVENT
BEGIN:VEVENT
DTSTAMP:20260421T095920
DTSTART;TZID=Europe/Berlin:20260303T183000
DTEND;TZID=Europe/Berlin:20260303T200000
UID:BH4020-20260303T183000@VHSALTENBURGER LAND
SUMMARY:Englisch A2 (BH4020) 
LOCATION:VHS ABG, Hospitalplatz 6, Raum 15, Hospitalplatz 6, 04600 Altenburg
END:VEVENT
BEGIN:VEVENT
DTSTAMP:20260421T095920
DTSTART;TZID=Europe/Berlin:20260310T183000
DTEND;TZID=Europe/Berlin:20260310T200000
UID:BH4020-20260310T183000@VHSALTENBURGER LAND
SUMMARY:Englisch A2 (BH4020) 
LOCATION:VHS ABG, Hospitalplatz 6, Raum 15, Hospitalplatz 6, 04600 Altenburg
END:VEVENT
BEGIN:VEVENT
DTSTAMP:20260421T095920
DTSTART;TZID=Europe/Berlin:20260317T183000
DTEND;TZID=Europe/Berlin:20260317T200000
UID:BH4020-20260317T183000@VHSALTENBURGER LAND
SUMMARY:Englisch A2 (BH4020) 
LOCATION:VHS ABG, Hospitalplatz 6, Raum 15, Hospitalplatz 6, 04600 Altenburg
END:VEVENT
BEGIN:VEVENT
DTSTAMP:20260421T095920
DTSTART;TZID=Europe/Berlin:20260324T183000
DTEND;TZID=Europe/Berlin:20260324T200000
UID:BH4020-20260324T183000@VHSALTENBURGER LAND
SUMMARY:Englisch A2 (BH4020) 
LOCATION:VHS ABG, Hospitalplatz 6, Raum 15, Hospitalplatz 6, 04600 Altenburg
END:VEVENT
BEGIN:VEVENT
DTSTAMP:20260421T095920
DTSTART;TZID=Europe/Berlin:20260331T183000
DTEND;TZID=Europe/Berlin:20260331T200000
UID:BH4020-20260331T183000@VHSALTENBURGER LAND
SUMMARY:Englisch A2 (BH4020) 
LOCATION:VHS ABG, Hospitalplatz 6, Raum 15, Hospitalplatz 6, 04600 Altenburg
END:VEVENT
BEGIN:VEVENT
DTSTAMP:20260421T095920
DTSTART;TZID=Europe/Berlin:20260421T183000
DTEND;TZID=Europe/Berlin:20260421T200000
UID:BH4020-20260421T183000@VHSALTENBURGER LAND
SUMMARY:Englisch A2 (BH4020) 
LOCATION:VHS ABG, Hospitalplatz 6, Raum 15, Hospitalplatz 6, 04600 Altenburg
END:VEVENT
BEGIN:VEVENT
DTSTAMP:20260421T095920
DTSTART;TZID=Europe/Berlin:20260428T183000
DTEND;TZID=Europe/Berlin:20260428T200000
UID:BH4020-20260428T183000@VHSALTENBURGER LAND
SUMMARY:Englisch A2 (BH4020) 
LOCATION:VHS ABG, Hospitalplatz 6, Raum 15, Hospitalplatz 6, 04600 Altenburg
END:VEVENT
BEGIN:VEVENT
DTSTAMP:20260421T095920
DTSTART;TZID=Europe/Berlin:20260505T183000
DTEND;TZID=Europe/Berlin:20260505T200000
UID:BH4020-20260505T183000@VHSALTENBURGER LAND
SUMMARY:Englisch A2 (BH4020) 
LOCATION:VHS ABG, Hospitalplatz 6, Raum 15, Hospitalplatz 6, 04600 Altenburg
END:VEVENT
BEGIN:VEVENT
DTSTAMP:20260421T095920
DTSTART;TZID=Europe/Berlin:20260512T183000
DTEND;TZID=Europe/Berlin:20260512T200000
UID:BH4020-20260512T183000@VHSALTENBURGER LAND
SUMMARY:Englisch A2 (BH4020) 
LOCATION:VHS ABG, Hospitalplatz 6, Raum 15, Hospitalplatz 6, 04600 Altenburg
END:VEVENT
BEGIN:VEVENT
DTSTAMP:20260421T095920
DTSTART;TZID=Europe/Berlin:20260519T183000
DTEND;TZID=Europe/Berlin:20260519T200000
UID:BH4020-20260519T183000@VHSALTENBURGER LAND
SUMMARY:Englisch A2 (BH4020) 
LOCATION:VHS ABG, Hospitalplatz 6, Raum 15, Hospitalplatz 6, 04600 Altenburg
END:VEVENT
END:VCALENDAR