BEGIN:VCALENDAR
VERSION:2.0
PRODID:https://www.kufer.de/kuferweb / DE
METHOD:PUBLISH
CALSCALE:GREGORIAN
X-WR-TIMEZONE:Europe/Berlin
BEGIN:VTIMEZONE
TZID:Europe/Berlin
X-LIC-LOCATION:Europe/Berlin
BEGIN:DAYLIGHT
TZOFFSETFROM:+0100
TZOFFSETTO:+0200
TZNAME:CEST
DTSTART:19700329T020000
RRULE:FREQ=YEARLY;INTERVAL=1;BYDAY=-1SU;BYMONTH=3
END:DAYLIGHT
BEGIN:STANDARD
TZOFFSETFROM:+0200
TZOFFSETTO:+0100
TZNAME:CET
DTSTART:19701025T030000
RRULE:FREQ=YEARLY;INTERVAL=1;BYDAY=-1SU;BYMONTH=10
END:STANDARD
END:VTIMEZONE
BEGIN:VEVENT
DTSTAMP:20260421T095344
DTSTART;TZID=Europe/Berlin:20260312T173000
DTEND;TZID=Europe/Berlin:20260312T190000
UID:BH4018-20260312T173000@VHSALTENBURGER LAND
SUMMARY:Englisch A1.1 (BH4018) 
LOCATION:VHS ABG, Hospitalplatz 6, Raum 15, Hospitalplatz 6, 04600 Altenburg
END:VEVENT
BEGIN:VEVENT
DTSTAMP:20260421T095344
DTSTART;TZID=Europe/Berlin:20260319T173000
DTEND;TZID=Europe/Berlin:20260319T190000
UID:BH4018-20260319T173000@VHSALTENBURGER LAND
SUMMARY:Englisch A1.1 (BH4018) 
LOCATION:VHS ABG, Hospitalplatz 6, Raum 15, Hospitalplatz 6, 04600 Altenburg
END:VEVENT
BEGIN:VEVENT
DTSTAMP:20260421T095344
DTSTART;TZID=Europe/Berlin:20260326T173000
DTEND;TZID=Europe/Berlin:20260326T190000
UID:BH4018-20260326T173000@VHSALTENBURGER LAND
SUMMARY:Englisch A1.1 (BH4018) 
LOCATION:VHS ABG, Hospitalplatz 6, Raum 15, Hospitalplatz 6, 04600 Altenburg
END:VEVENT
BEGIN:VEVENT
DTSTAMP:20260421T095344
DTSTART;TZID=Europe/Berlin:20260402T173000
DTEND;TZID=Europe/Berlin:20260402T190000
UID:BH4018-20260402T173000@VHSALTENBURGER LAND
SUMMARY:Englisch A1.1 (BH4018) 
LOCATION:VHS ABG, Hospitalplatz 6, Raum 15, Hospitalplatz 6, 04600 Altenburg
END:VEVENT
BEGIN:VEVENT
DTSTAMP:20260421T095344
DTSTART;TZID=Europe/Berlin:20260423T173000
DTEND;TZID=Europe/Berlin:20260423T190000
UID:BH4018-20260423T173000@VHSALTENBURGER LAND
SUMMARY:Englisch A1.1 (BH4018) 
LOCATION:VHS ABG, Hospitalplatz 6, Raum 15, Hospitalplatz 6, 04600 Altenburg
END:VEVENT
BEGIN:VEVENT
DTSTAMP:20260421T095344
DTSTART;TZID=Europe/Berlin:20260430T173000
DTEND;TZID=Europe/Berlin:20260430T190000
UID:BH4018-20260430T173000@VHSALTENBURGER LAND
SUMMARY:Englisch A1.1 (BH4018) 
LOCATION:VHS ABG, Hospitalplatz 6, Raum 15, Hospitalplatz 6, 04600 Altenburg
END:VEVENT
BEGIN:VEVENT
DTSTAMP:20260421T095344
DTSTART;TZID=Europe/Berlin:20260507T173000
DTEND;TZID=Europe/Berlin:20260507T190000
UID:BH4018-20260507T173000@VHSALTENBURGER LAND
SUMMARY:Englisch A1.1 (BH4018) 
LOCATION:VHS ABG, Hospitalplatz 6, Raum 15, Hospitalplatz 6, 04600 Altenburg
END:VEVENT
BEGIN:VEVENT
DTSTAMP:20260421T095344
DTSTART;TZID=Europe/Berlin:20260521T173000
DTEND;TZID=Europe/Berlin:20260521T190000
UID:BH4018-20260521T173000@VHSALTENBURGER LAND
SUMMARY:Englisch A1.1 (BH4018) 
LOCATION:VHS ABG, Hospitalplatz 6, Raum 15, Hospitalplatz 6, 04600 Altenburg
END:VEVENT
BEGIN:VEVENT
DTSTAMP:20260421T095344
DTSTART;TZID=Europe/Berlin:20260528T173000
DTEND;TZID=Europe/Berlin:20260528T190000
UID:BH4018-20260528T173000@VHSALTENBURGER LAND
SUMMARY:Englisch A1.1 (BH4018) 
LOCATION:VHS ABG, Hospitalplatz 6, Raum 15, Hospitalplatz 6, 04600 Altenburg
END:VEVENT
BEGIN:VEVENT
DTSTAMP:20260421T095344
DTSTART;TZID=Europe/Berlin:20260604T173000
DTEND;TZID=Europe/Berlin:20260604T190000
UID:BH4018-20260604T173000@VHSALTENBURGER LAND
SUMMARY:Englisch A1.1 (BH4018) 
LOCATION:VHS ABG, Hospitalplatz 6, Raum 15, Hospitalplatz 6, 04600 Altenburg
END:VEVENT
BEGIN:VEVENT
DTSTAMP:20260421T095344
DTSTART;TZID=Europe/Berlin:20260611T173000
DTEND;TZID=Europe/Berlin:20260611T190000
UID:BH4018-20260611T173000@VHSALTENBURGER LAND
SUMMARY:Englisch A1.1 (BH4018) 
LOCATION:VHS ABG, Hospitalplatz 6, Raum 15, Hospitalplatz 6, 04600 Altenburg
END:VEVENT
BEGIN:VEVENT
DTSTAMP:20260421T095344
DTSTART;TZID=Europe/Berlin:20260618T173000
DTEND;TZID=Europe/Berlin:20260618T190000
UID:BH4018-20260618T173000@VHSALTENBURGER LAND
SUMMARY:Englisch A1.1 (BH4018) 
LOCATION:VHS ABG, Hospitalplatz 6, Raum 15, Hospitalplatz 6, 04600 Altenburg
END:VEVENT
BEGIN:VEVENT
DTSTAMP:20260421T095344
DTSTART;TZID=Europe/Berlin:20260625T173000
DTEND;TZID=Europe/Berlin:20260625T190000
UID:BH4018-20260625T173000@VHSALTENBURGER LAND
SUMMARY:Englisch A1.1 (BH4018) 
LOCATION:VHS ABG, Hospitalplatz 6, Raum 15, Hospitalplatz 6, 04600 Altenburg
END:VEVENT
END:VCALENDAR