BEGIN:VCALENDAR
VERSION:2.0
PRODID:https://www.kufer.de/kuferweb / DE
METHOD:PUBLISH
CALSCALE:GREGORIAN
X-WR-TIMEZONE:Europe/Berlin
BEGIN:VTIMEZONE
TZID:Europe/Berlin
X-LIC-LOCATION:Europe/Berlin
BEGIN:DAYLIGHT
TZOFFSETFROM:+0100
TZOFFSETTO:+0200
TZNAME:CEST
DTSTART:19700329T020000
RRULE:FREQ=YEARLY;INTERVAL=1;BYDAY=-1SU;BYMONTH=3
END:DAYLIGHT
BEGIN:STANDARD
TZOFFSETFROM:+0200
TZOFFSETTO:+0100
TZNAME:CET
DTSTART:19701025T030000
RRULE:FREQ=YEARLY;INTERVAL=1;BYDAY=-1SU;BYMONTH=10
END:STANDARD
END:VTIMEZONE
BEGIN:VEVENT
DTSTAMP:20260421T123657
DTSTART;TZID=Europe/Berlin:20260226T131500
DTEND;TZID=Europe/Berlin:20260226T144500
UID:BH4017-20260226T131500@VHSALTENBURGER LAND
SUMMARY:Deutsch Lernförderung - Projekt zur Unterstützung von Migranten (BH4017) 
LOCATION:VHS ABG, Hospitalplatz 6, Raum 8, Hospitalplatz 6, 04600 Altenburg
END:VEVENT
BEGIN:VEVENT
DTSTAMP:20260421T123657
DTSTART;TZID=Europe/Berlin:20260305T131500
DTEND;TZID=Europe/Berlin:20260305T144500
UID:BH4017-20260305T131500@VHSALTENBURGER LAND
SUMMARY:Deutsch Lernförderung - Projekt zur Unterstützung von Migranten (BH4017) 
LOCATION:VHS ABG, Hospitalplatz 6, Raum 8, Hospitalplatz 6, 04600 Altenburg
END:VEVENT
BEGIN:VEVENT
DTSTAMP:20260421T123657
DTSTART;TZID=Europe/Berlin:20260312T131500
DTEND;TZID=Europe/Berlin:20260312T144500
UID:BH4017-20260312T131500@VHSALTENBURGER LAND
SUMMARY:Deutsch Lernförderung - Projekt zur Unterstützung von Migranten (BH4017) 
LOCATION:VHS ABG, Hospitalplatz 6, Raum 8, Hospitalplatz 6, 04600 Altenburg
END:VEVENT
BEGIN:VEVENT
DTSTAMP:20260421T123657
DTSTART;TZID=Europe/Berlin:20260319T131500
DTEND;TZID=Europe/Berlin:20260319T144500
UID:BH4017-20260319T131500@VHSALTENBURGER LAND
SUMMARY:Deutsch Lernförderung - Projekt zur Unterstützung von Migranten (BH4017) 
LOCATION:VHS ABG, Hospitalplatz 6, Raum 8, Hospitalplatz 6, 04600 Altenburg
END:VEVENT
BEGIN:VEVENT
DTSTAMP:20260421T123657
DTSTART;TZID=Europe/Berlin:20260409T131500
DTEND;TZID=Europe/Berlin:20260409T144500
UID:BH4017-20260409T131500@VHSALTENBURGER LAND
SUMMARY:Deutsch Lernförderung - Projekt zur Unterstützung von Migranten (BH4017) 
LOCATION:VHS ABG, Hospitalplatz 6, Raum 8, Hospitalplatz 6, 04600 Altenburg
END:VEVENT
BEGIN:VEVENT
DTSTAMP:20260421T123657
DTSTART;TZID=Europe/Berlin:20260416T131500
DTEND;TZID=Europe/Berlin:20260416T144500
UID:BH4017-20260416T131500@VHSALTENBURGER LAND
SUMMARY:Deutsch Lernförderung - Projekt zur Unterstützung von Migranten (BH4017) 
LOCATION:VHS ABG, Hospitalplatz 6, Raum 8, Hospitalplatz 6, 04600 Altenburg
END:VEVENT
BEGIN:VEVENT
DTSTAMP:20260421T123657
DTSTART;TZID=Europe/Berlin:20260423T131500
DTEND;TZID=Europe/Berlin:20260423T144500
UID:BH4017-20260423T131500@VHSALTENBURGER LAND
SUMMARY:Deutsch Lernförderung - Projekt zur Unterstützung von Migranten (BH4017) 
LOCATION:VHS ABG, Hospitalplatz 6, Raum 8, Hospitalplatz 6, 04600 Altenburg
END:VEVENT
BEGIN:VEVENT
DTSTAMP:20260421T123657
DTSTART;TZID=Europe/Berlin:20260430T131500
DTEND;TZID=Europe/Berlin:20260430T144500
UID:BH4017-20260430T131500@VHSALTENBURGER LAND
SUMMARY:Deutsch Lernförderung - Projekt zur Unterstützung von Migranten (BH4017) 
LOCATION:VHS ABG, Hospitalplatz 6, Raum 8, Hospitalplatz 6, 04600 Altenburg
END:VEVENT
BEGIN:VEVENT
DTSTAMP:20260421T123657
DTSTART;TZID=Europe/Berlin:20260507T131500
DTEND;TZID=Europe/Berlin:20260507T144500
UID:BH4017-20260507T131500@VHSALTENBURGER LAND
SUMMARY:Deutsch Lernförderung - Projekt zur Unterstützung von Migranten (BH4017) 
LOCATION:VHS ABG, Hospitalplatz 6, Raum 8, Hospitalplatz 6, 04600 Altenburg
END:VEVENT
BEGIN:VEVENT
DTSTAMP:20260421T123657
DTSTART;TZID=Europe/Berlin:20260521T131500
DTEND;TZID=Europe/Berlin:20260521T144500
UID:BH4017-20260521T131500@VHSALTENBURGER LAND
SUMMARY:Deutsch Lernförderung - Projekt zur Unterstützung von Migranten (BH4017) 
LOCATION:VHS ABG, Hospitalplatz 6, Raum 8, Hospitalplatz 6, 04600 Altenburg
END:VEVENT
END:VCALENDAR