BEGIN:VCALENDAR
VERSION:2.0
PRODID:https://www.kufer.de/kuferweb / DE
METHOD:PUBLISH
CALSCALE:GREGORIAN
X-WR-TIMEZONE:Europe/Berlin
BEGIN:VTIMEZONE
TZID:Europe/Berlin
X-LIC-LOCATION:Europe/Berlin
BEGIN:DAYLIGHT
TZOFFSETFROM:+0100
TZOFFSETTO:+0200
TZNAME:CEST
DTSTART:19700329T020000
RRULE:FREQ=YEARLY;INTERVAL=1;BYDAY=-1SU;BYMONTH=3
END:DAYLIGHT
BEGIN:STANDARD
TZOFFSETFROM:+0200
TZOFFSETTO:+0100
TZNAME:CET
DTSTART:19701025T030000
RRULE:FREQ=YEARLY;INTERVAL=1;BYDAY=-1SU;BYMONTH=10
END:STANDARD
END:VTIMEZONE
BEGIN:VEVENT
DTSTAMP:20260421T111613
DTSTART;TZID=Europe/Berlin:20260107T133000
DTEND;TZID=Europe/Berlin:20260107T154500
UID:BH4016-20260107T133000@VHSALTENBURGER LAND
SUMMARY:Deutsch Lernförderung - Projekt zur Unterstützung von Migranten (BH4016) 
LOCATION:VHS ABG, Hospitalplatz 6, Raum 7, Hospitalplatz 6, 04600 Altenburg
END:VEVENT
BEGIN:VEVENT
DTSTAMP:20260421T111613
DTSTART;TZID=Europe/Berlin:20260121T133000
DTEND;TZID=Europe/Berlin:20260121T154500
UID:BH4016-20260121T133000@VHSALTENBURGER LAND
SUMMARY:Deutsch Lernförderung - Projekt zur Unterstützung von Migranten (BH4016) 
LOCATION:VHS ABG, Hospitalplatz 6, Raum 7, Hospitalplatz 6, 04600 Altenburg
END:VEVENT
BEGIN:VEVENT
DTSTAMP:20260421T111613
DTSTART;TZID=Europe/Berlin:20260128T133000
DTEND;TZID=Europe/Berlin:20260128T154500
UID:BH4016-20260128T133000@VHSALTENBURGER LAND
SUMMARY:Deutsch Lernförderung - Projekt zur Unterstützung von Migranten (BH4016) 
LOCATION:VHS ABG, Hospitalplatz 6, Raum 7, Hospitalplatz 6, 04600 Altenburg
END:VEVENT
BEGIN:VEVENT
DTSTAMP:20260421T111613
DTSTART;TZID=Europe/Berlin:20260204T133000
DTEND;TZID=Europe/Berlin:20260204T154500
UID:BH4016-20260204T133000@VHSALTENBURGER LAND
SUMMARY:Deutsch Lernförderung - Projekt zur Unterstützung von Migranten (BH4016) 
LOCATION:VHS ABG, Hospitalplatz 6, Raum 7, Hospitalplatz 6, 04600 Altenburg
END:VEVENT
BEGIN:VEVENT
DTSTAMP:20260421T111613
DTSTART;TZID=Europe/Berlin:20260211T133000
DTEND;TZID=Europe/Berlin:20260211T154500
UID:BH4016-20260211T133000@VHSALTENBURGER LAND
SUMMARY:Deutsch Lernförderung - Projekt zur Unterstützung von Migranten (BH4016) 
LOCATION:VHS ABG, Hospitalplatz 6, Raum 7, Hospitalplatz 6, 04600 Altenburg
END:VEVENT
BEGIN:VEVENT
DTSTAMP:20260421T111613
DTSTART;TZID=Europe/Berlin:20260225T133000
DTEND;TZID=Europe/Berlin:20260225T154500
UID:BH4016-20260225T133000@VHSALTENBURGER LAND
SUMMARY:Deutsch Lernförderung - Projekt zur Unterstützung von Migranten (BH4016) 
LOCATION:VHS ABG, Hospitalplatz 6, Raum 7, Hospitalplatz 6, 04600 Altenburg
END:VEVENT
BEGIN:VEVENT
DTSTAMP:20260421T111613
DTSTART;TZID=Europe/Berlin:20260304T133000
DTEND;TZID=Europe/Berlin:20260304T154500
UID:BH4016-20260304T133000@VHSALTENBURGER LAND
SUMMARY:Deutsch Lernförderung - Projekt zur Unterstützung von Migranten (BH4016) 
LOCATION:VHS ABG, Hospitalplatz 6, Raum 7, Hospitalplatz 6, 04600 Altenburg
END:VEVENT
BEGIN:VEVENT
DTSTAMP:20260421T111613
DTSTART;TZID=Europe/Berlin:20260311T133000
DTEND;TZID=Europe/Berlin:20260311T154500
UID:BH4016-20260311T133000@VHSALTENBURGER LAND
SUMMARY:Deutsch Lernförderung - Projekt zur Unterstützung von Migranten (BH4016) 
LOCATION:VHS ABG, Hospitalplatz 6, Raum 7, Hospitalplatz 6, 04600 Altenburg
END:VEVENT
BEGIN:VEVENT
DTSTAMP:20260421T111613
DTSTART;TZID=Europe/Berlin:20260318T133000
DTEND;TZID=Europe/Berlin:20260318T154500
UID:BH4016-20260318T133000@VHSALTENBURGER LAND
SUMMARY:Deutsch Lernförderung - Projekt zur Unterstützung von Migranten (BH4016) 
LOCATION:VHS ABG, Hospitalplatz 6, Raum 7, Hospitalplatz 6, 04600 Altenburg
END:VEVENT
BEGIN:VEVENT
DTSTAMP:20260421T111613
DTSTART;TZID=Europe/Berlin:20260325T133000
DTEND;TZID=Europe/Berlin:20260325T154500
UID:BH4016-20260325T133000@VHSALTENBURGER LAND
SUMMARY:Deutsch Lernförderung - Projekt zur Unterstützung von Migranten (BH4016) 
LOCATION:VHS ABG, Hospitalplatz 6, Raum 7, Hospitalplatz 6, 04600 Altenburg
END:VEVENT
BEGIN:VEVENT
DTSTAMP:20260421T111613
DTSTART;TZID=Europe/Berlin:20260401T133000
DTEND;TZID=Europe/Berlin:20260401T154500
UID:BH4016-20260401T133000@VHSALTENBURGER LAND
SUMMARY:Deutsch Lernförderung - Projekt zur Unterstützung von Migranten (BH4016) 
LOCATION:VHS ABG, Hospitalplatz 6, Raum 7, Hospitalplatz 6, 04600 Altenburg
END:VEVENT
BEGIN:VEVENT
DTSTAMP:20260421T111613
DTSTART;TZID=Europe/Berlin:20260415T133000
DTEND;TZID=Europe/Berlin:20260415T154500
UID:BH4016-20260415T133000@VHSALTENBURGER LAND
SUMMARY:Deutsch Lernförderung - Projekt zur Unterstützung von Migranten (BH4016) 
LOCATION:VHS ABG, Hospitalplatz 6, Raum 7, Hospitalplatz 6, 04600 Altenburg
END:VEVENT
BEGIN:VEVENT
DTSTAMP:20260421T111613
DTSTART;TZID=Europe/Berlin:20260422T133000
DTEND;TZID=Europe/Berlin:20260422T154500
UID:BH4016-20260422T133000@VHSALTENBURGER LAND
SUMMARY:Deutsch Lernförderung - Projekt zur Unterstützung von Migranten (BH4016) 
LOCATION:VHS ABG, Hospitalplatz 6, Raum 7, Hospitalplatz 6, 04600 Altenburg
END:VEVENT
BEGIN:VEVENT
DTSTAMP:20260421T111613
DTSTART;TZID=Europe/Berlin:20260429T133000
DTEND;TZID=Europe/Berlin:20260429T154500
UID:BH4016-20260429T133000@VHSALTENBURGER LAND
SUMMARY:Deutsch Lernförderung - Projekt zur Unterstützung von Migranten (BH4016) 
LOCATION:VHS ABG, Hospitalplatz 6, Raum 7, Hospitalplatz 6, 04600 Altenburg
END:VEVENT
BEGIN:VEVENT
DTSTAMP:20260421T111613
DTSTART;TZID=Europe/Berlin:20260506T133000
DTEND;TZID=Europe/Berlin:20260506T154500
UID:BH4016-20260506T133000@VHSALTENBURGER LAND
SUMMARY:Deutsch Lernförderung - Projekt zur Unterstützung von Migranten (BH4016) 
LOCATION:VHS ABG, Hospitalplatz 6, Raum 7, Hospitalplatz 6, 04600 Altenburg
END:VEVENT
END:VCALENDAR