BEGIN:VCALENDAR
VERSION:2.0
PRODID:https://www.kufer.de/kuferweb / DE
METHOD:PUBLISH
CALSCALE:GREGORIAN
X-WR-TIMEZONE:Europe/Berlin
BEGIN:VTIMEZONE
TZID:Europe/Berlin
X-LIC-LOCATION:Europe/Berlin
BEGIN:DAYLIGHT
TZOFFSETFROM:+0100
TZOFFSETTO:+0200
TZNAME:CEST
DTSTART:19700329T020000
RRULE:FREQ=YEARLY;INTERVAL=1;BYDAY=-1SU;BYMONTH=3
END:DAYLIGHT
BEGIN:STANDARD
TZOFFSETFROM:+0200
TZOFFSETTO:+0100
TZNAME:CET
DTSTART:19701025T030000
RRULE:FREQ=YEARLY;INTERVAL=1;BYDAY=-1SU;BYMONTH=10
END:STANDARD
END:VTIMEZONE
BEGIN:VEVENT
DTSTAMP:20260421T130810
DTSTART;TZID=Europe/Berlin:20260309T080000
DTEND;TZID=Europe/Berlin:20260309T111500
UID:BH40041-20260309T080000@VHSALTENBURGER LAND
SUMMARY:Deutsch-Integrationskurs (BH40041) 
LOCATION:VHS ABG, Hospitalplatz 6, Raum 14, Hospitalplatz 6, 04600 Altenburg
END:VEVENT
BEGIN:VEVENT
DTSTAMP:20260421T130810
DTSTART;TZID=Europe/Berlin:20260310T080000
DTEND;TZID=Europe/Berlin:20260310T111500
UID:BH40041-20260310T080000@VHSALTENBURGER LAND
SUMMARY:Deutsch-Integrationskurs (BH40041) 
LOCATION:VHS ABG, Hospitalplatz 6, Raum 14, Hospitalplatz 6, 04600 Altenburg
END:VEVENT
BEGIN:VEVENT
DTSTAMP:20260421T130810
DTSTART;TZID=Europe/Berlin:20260311T080000
DTEND;TZID=Europe/Berlin:20260311T111500
UID:BH40041-20260311T080000@VHSALTENBURGER LAND
SUMMARY:Deutsch-Integrationskurs (BH40041) 
LOCATION:VHS ABG, Hospitalplatz 6, Raum 14, Hospitalplatz 6, 04600 Altenburg
END:VEVENT
BEGIN:VEVENT
DTSTAMP:20260421T130810
DTSTART;TZID=Europe/Berlin:20260312T080000
DTEND;TZID=Europe/Berlin:20260312T111500
UID:BH40041-20260312T080000@VHSALTENBURGER LAND
SUMMARY:Deutsch-Integrationskurs (BH40041) 
LOCATION:VHS ABG, Hospitalplatz 6, Raum 14, Hospitalplatz 6, 04600 Altenburg
END:VEVENT
BEGIN:VEVENT
DTSTAMP:20260421T130810
DTSTART;TZID=Europe/Berlin:20260316T080000
DTEND;TZID=Europe/Berlin:20260316T111500
UID:BH40041-20260316T080000@VHSALTENBURGER LAND
SUMMARY:Deutsch-Integrationskurs (BH40041) 
LOCATION:VHS ABG, Hospitalplatz 6, Raum 14, Hospitalplatz 6, 04600 Altenburg
END:VEVENT
BEGIN:VEVENT
DTSTAMP:20260421T130810
DTSTART;TZID=Europe/Berlin:20260317T080000
DTEND;TZID=Europe/Berlin:20260317T111500
UID:BH40041-20260317T080000@VHSALTENBURGER LAND
SUMMARY:Deutsch-Integrationskurs (BH40041) 
LOCATION:VHS ABG, Hospitalplatz 6, Raum 14, Hospitalplatz 6, 04600 Altenburg
END:VEVENT
BEGIN:VEVENT
DTSTAMP:20260421T130810
DTSTART;TZID=Europe/Berlin:20260318T080000
DTEND;TZID=Europe/Berlin:20260318T111500
UID:BH40041-20260318T080000@VHSALTENBURGER LAND
SUMMARY:Deutsch-Integrationskurs (BH40041) 
LOCATION:VHS ABG, Hospitalplatz 6, Raum 14, Hospitalplatz 6, 04600 Altenburg
END:VEVENT
BEGIN:VEVENT
DTSTAMP:20260421T130810
DTSTART;TZID=Europe/Berlin:20260319T080000
DTEND;TZID=Europe/Berlin:20260319T111500
UID:BH40041-20260319T080000@VHSALTENBURGER LAND
SUMMARY:Deutsch-Integrationskurs (BH40041) 
LOCATION:VHS ABG, Hospitalplatz 6, Raum 14, Hospitalplatz 6, 04600 Altenburg
END:VEVENT
BEGIN:VEVENT
DTSTAMP:20260421T130810
DTSTART;TZID=Europe/Berlin:20260323T080000
DTEND;TZID=Europe/Berlin:20260323T111500
UID:BH40041-20260323T080000@VHSALTENBURGER LAND
SUMMARY:Deutsch-Integrationskurs (BH40041) 
LOCATION:VHS ABG, Hospitalplatz 6, Raum 14, Hospitalplatz 6, 04600 Altenburg
END:VEVENT
BEGIN:VEVENT
DTSTAMP:20260421T130810
DTSTART;TZID=Europe/Berlin:20260324T080000
DTEND;TZID=Europe/Berlin:20260324T111500
UID:BH40041-20260324T080000@VHSALTENBURGER LAND
SUMMARY:Deutsch-Integrationskurs (BH40041) 
LOCATION:VHS ABG, Hospitalplatz 6, Raum 14, Hospitalplatz 6, 04600 Altenburg
END:VEVENT
BEGIN:VEVENT
DTSTAMP:20260421T130810
DTSTART;TZID=Europe/Berlin:20260325T080000
DTEND;TZID=Europe/Berlin:20260325T111500
UID:BH40041-20260325T080000@VHSALTENBURGER LAND
SUMMARY:Deutsch-Integrationskurs (BH40041) 
LOCATION:VHS ABG, Hospitalplatz 6, Raum 14, Hospitalplatz 6, 04600 Altenburg
END:VEVENT
BEGIN:VEVENT
DTSTAMP:20260421T130810
DTSTART;TZID=Europe/Berlin:20260326T080000
DTEND;TZID=Europe/Berlin:20260326T111500
UID:BH40041-20260326T080000@VHSALTENBURGER LAND
SUMMARY:Deutsch-Integrationskurs (BH40041) 
LOCATION:VHS ABG, Hospitalplatz 6, Raum 14, Hospitalplatz 6, 04600 Altenburg
END:VEVENT
BEGIN:VEVENT
DTSTAMP:20260421T130810
DTSTART;TZID=Europe/Berlin:20260330T080000
DTEND;TZID=Europe/Berlin:20260330T111500
UID:BH40041-20260330T080000@VHSALTENBURGER LAND
SUMMARY:Deutsch-Integrationskurs (BH40041) 
LOCATION:VHS ABG, Hospitalplatz 6, Raum 14, Hospitalplatz 6, 04600 Altenburg
END:VEVENT
BEGIN:VEVENT
DTSTAMP:20260421T130810
DTSTART;TZID=Europe/Berlin:20260331T080000
DTEND;TZID=Europe/Berlin:20260331T111500
UID:BH40041-20260331T080000@VHSALTENBURGER LAND
SUMMARY:Deutsch-Integrationskurs (BH40041) 
LOCATION:VHS ABG, Hospitalplatz 6, Raum 14, Hospitalplatz 6, 04600 Altenburg
END:VEVENT
BEGIN:VEVENT
DTSTAMP:20260421T130810
DTSTART;TZID=Europe/Berlin:20260401T080000
DTEND;TZID=Europe/Berlin:20260401T111500
UID:BH40041-20260401T080000@VHSALTENBURGER LAND
SUMMARY:Deutsch-Integrationskurs (BH40041) 
LOCATION:VHS ABG, Hospitalplatz 6, Raum 14, Hospitalplatz 6, 04600 Altenburg
END:VEVENT
BEGIN:VEVENT
DTSTAMP:20260421T130810
DTSTART;TZID=Europe/Berlin:20260402T080000
DTEND;TZID=Europe/Berlin:20260402T111500
UID:BH40041-20260402T080000@VHSALTENBURGER LAND
SUMMARY:Deutsch-Integrationskurs (BH40041) 
LOCATION:VHS ABG, Hospitalplatz 6, Raum 14, Hospitalplatz 6, 04600 Altenburg
END:VEVENT
BEGIN:VEVENT
DTSTAMP:20260421T130810
DTSTART;TZID=Europe/Berlin:20260413T080000
DTEND;TZID=Europe/Berlin:20260413T111500
UID:BH40041-20260413T080000@VHSALTENBURGER LAND
SUMMARY:Deutsch-Integrationskurs (BH40041) 
LOCATION:VHS ABG, Hospitalplatz 6, Raum 14, Hospitalplatz 6, 04600 Altenburg
END:VEVENT
BEGIN:VEVENT
DTSTAMP:20260421T130810
DTSTART;TZID=Europe/Berlin:20260414T080000
DTEND;TZID=Europe/Berlin:20260414T111500
UID:BH40041-20260414T080000@VHSALTENBURGER LAND
SUMMARY:Deutsch-Integrationskurs (BH40041) 
LOCATION:VHS ABG, Hospitalplatz 6, Raum 14, Hospitalplatz 6, 04600 Altenburg
END:VEVENT
BEGIN:VEVENT
DTSTAMP:20260421T130810
DTSTART;TZID=Europe/Berlin:20260415T080000
DTEND;TZID=Europe/Berlin:20260415T111500
UID:BH40041-20260415T080000@VHSALTENBURGER LAND
SUMMARY:Deutsch-Integrationskurs (BH40041) 
LOCATION:VHS ABG, Hospitalplatz 6, Raum 14, Hospitalplatz 6, 04600 Altenburg
END:VEVENT
BEGIN:VEVENT
DTSTAMP:20260421T130810
DTSTART;TZID=Europe/Berlin:20260416T080000
DTEND;TZID=Europe/Berlin:20260416T111500
UID:BH40041-20260416T080000@VHSALTENBURGER LAND
SUMMARY:Deutsch-Integrationskurs (BH40041) 
LOCATION:VHS ABG, Hospitalplatz 6, Raum 14, Hospitalplatz 6, 04600 Altenburg
END:VEVENT
BEGIN:VEVENT
DTSTAMP:20260421T130810
DTSTART;TZID=Europe/Berlin:20260420T080000
DTEND;TZID=Europe/Berlin:20260420T111500
UID:BH40041-20260420T080000@VHSALTENBURGER LAND
SUMMARY:Deutsch-Integrationskurs (BH40041) 
LOCATION:VHS ABG, Hospitalplatz 6, Raum 14, Hospitalplatz 6, 04600 Altenburg
END:VEVENT
BEGIN:VEVENT
DTSTAMP:20260421T130810
DTSTART;TZID=Europe/Berlin:20260421T080000
DTEND;TZID=Europe/Berlin:20260421T111500
UID:BH40041-20260421T080000@VHSALTENBURGER LAND
SUMMARY:Deutsch-Integrationskurs (BH40041) 
LOCATION:VHS ABG, Hospitalplatz 6, Raum 14, Hospitalplatz 6, 04600 Altenburg
END:VEVENT
BEGIN:VEVENT
DTSTAMP:20260421T130810
DTSTART;TZID=Europe/Berlin:20260422T080000
DTEND;TZID=Europe/Berlin:20260422T111500
UID:BH40041-20260422T080000@VHSALTENBURGER LAND
SUMMARY:Deutsch-Integrationskurs (BH40041) 
LOCATION:VHS ABG, Hospitalplatz 6, Raum 14, Hospitalplatz 6, 04600 Altenburg
END:VEVENT
BEGIN:VEVENT
DTSTAMP:20260421T130810
DTSTART;TZID=Europe/Berlin:20260423T080000
DTEND;TZID=Europe/Berlin:20260423T111500
UID:BH40041-20260423T080000@VHSALTENBURGER LAND
SUMMARY:Deutsch-Integrationskurs (BH40041) 
LOCATION:VHS ABG, Hospitalplatz 6, Raum 14, Hospitalplatz 6, 04600 Altenburg
END:VEVENT
BEGIN:VEVENT
DTSTAMP:20260421T130810
DTSTART;TZID=Europe/Berlin:20260427T080000
DTEND;TZID=Europe/Berlin:20260427T111500
UID:BH40041-20260427T080000@VHSALTENBURGER LAND
SUMMARY:Deutsch-Integrationskurs (BH40041) 
LOCATION:VHS ABG, Hospitalplatz 6, Raum 14, Hospitalplatz 6, 04600 Altenburg
END:VEVENT
BEGIN:VEVENT
DTSTAMP:20260421T130810
DTSTART;TZID=Europe/Berlin:20260428T080000
DTEND;TZID=Europe/Berlin:20260428T111500
UID:BH40042-20260428T080000@VHSALTENBURGER LAND
SUMMARY:Deutsch-Integrationskurs (BH40042) 
LOCATION:VHS ABG, Hospitalplatz 6, Raum 14, Hospitalplatz 6, 04600 Altenburg
END:VEVENT
BEGIN:VEVENT
DTSTAMP:20260421T130810
DTSTART;TZID=Europe/Berlin:20260429T080000
DTEND;TZID=Europe/Berlin:20260429T111500
UID:BH40042-20260429T080000@VHSALTENBURGER LAND
SUMMARY:Deutsch-Integrationskurs (BH40042) 
LOCATION:VHS ABG, Hospitalplatz 6, Raum 14, Hospitalplatz 6, 04600 Altenburg
END:VEVENT
BEGIN:VEVENT
DTSTAMP:20260421T130810
DTSTART;TZID=Europe/Berlin:20260430T080000
DTEND;TZID=Europe/Berlin:20260430T111500
UID:BH40042-20260430T080000@VHSALTENBURGER LAND
SUMMARY:Deutsch-Integrationskurs (BH40042) 
LOCATION:VHS ABG, Hospitalplatz 6, Raum 14, Hospitalplatz 6, 04600 Altenburg
END:VEVENT
BEGIN:VEVENT
DTSTAMP:20260421T130810
DTSTART;TZID=Europe/Berlin:20260504T080000
DTEND;TZID=Europe/Berlin:20260504T111500
UID:BH40042-20260504T080000@VHSALTENBURGER LAND
SUMMARY:Deutsch-Integrationskurs (BH40042) 
LOCATION:VHS ABG, Hospitalplatz 6, Raum 14, Hospitalplatz 6, 04600 Altenburg
END:VEVENT
BEGIN:VEVENT
DTSTAMP:20260421T130810
DTSTART;TZID=Europe/Berlin:20260505T080000
DTEND;TZID=Europe/Berlin:20260505T111500
UID:BH40042-20260505T080000@VHSALTENBURGER LAND
SUMMARY:Deutsch-Integrationskurs (BH40042) 
LOCATION:VHS ABG, Hospitalplatz 6, Raum 14, Hospitalplatz 6, 04600 Altenburg
END:VEVENT
BEGIN:VEVENT
DTSTAMP:20260421T130810
DTSTART;TZID=Europe/Berlin:20260506T080000
DTEND;TZID=Europe/Berlin:20260506T111500
UID:BH40042-20260506T080000@VHSALTENBURGER LAND
SUMMARY:Deutsch-Integrationskurs (BH40042) 
LOCATION:VHS ABG, Hospitalplatz 6, Raum 14, Hospitalplatz 6, 04600 Altenburg
END:VEVENT
BEGIN:VEVENT
DTSTAMP:20260421T130810
DTSTART;TZID=Europe/Berlin:20260507T080000
DTEND;TZID=Europe/Berlin:20260507T111500
UID:BH40042-20260507T080000@VHSALTENBURGER LAND
SUMMARY:Deutsch-Integrationskurs (BH40042) 
LOCATION:VHS ABG, Hospitalplatz 6, Raum 14, Hospitalplatz 6, 04600 Altenburg
END:VEVENT
BEGIN:VEVENT
DTSTAMP:20260421T130810
DTSTART;TZID=Europe/Berlin:20260511T080000
DTEND;TZID=Europe/Berlin:20260511T111500
UID:BH40042-20260511T080000@VHSALTENBURGER LAND
SUMMARY:Deutsch-Integrationskurs (BH40042) 
LOCATION:VHS ABG, Hospitalplatz 6, Raum 14, Hospitalplatz 6, 04600 Altenburg
END:VEVENT
BEGIN:VEVENT
DTSTAMP:20260421T130810
DTSTART;TZID=Europe/Berlin:20260512T080000
DTEND;TZID=Europe/Berlin:20260512T111500
UID:BH40042-20260512T080000@VHSALTENBURGER LAND
SUMMARY:Deutsch-Integrationskurs (BH40042) 
LOCATION:VHS ABG, Hospitalplatz 6, Raum 14, Hospitalplatz 6, 04600 Altenburg
END:VEVENT
BEGIN:VEVENT
DTSTAMP:20260421T130810
DTSTART;TZID=Europe/Berlin:20260513T080000
DTEND;TZID=Europe/Berlin:20260513T111500
UID:BH40042-20260513T080000@VHSALTENBURGER LAND
SUMMARY:Deutsch-Integrationskurs (BH40042) 
LOCATION:VHS ABG, Hospitalplatz 6, Raum 14, Hospitalplatz 6, 04600 Altenburg
END:VEVENT
BEGIN:VEVENT
DTSTAMP:20260421T130810
DTSTART;TZID=Europe/Berlin:20260518T080000
DTEND;TZID=Europe/Berlin:20260518T111500
UID:BH40042-20260518T080000@VHSALTENBURGER LAND
SUMMARY:Deutsch-Integrationskurs (BH40042) 
LOCATION:VHS ABG, Hospitalplatz 6, Raum 14, Hospitalplatz 6, 04600 Altenburg
END:VEVENT
BEGIN:VEVENT
DTSTAMP:20260421T130810
DTSTART;TZID=Europe/Berlin:20260519T080000
DTEND;TZID=Europe/Berlin:20260519T111500
UID:BH40042-20260519T080000@VHSALTENBURGER LAND
SUMMARY:Deutsch-Integrationskurs (BH40042) 
LOCATION:VHS ABG, Hospitalplatz 6, Raum 14, Hospitalplatz 6, 04600 Altenburg
END:VEVENT
BEGIN:VEVENT
DTSTAMP:20260421T130810
DTSTART;TZID=Europe/Berlin:20260520T080000
DTEND;TZID=Europe/Berlin:20260520T111500
UID:BH40042-20260520T080000@VHSALTENBURGER LAND
SUMMARY:Deutsch-Integrationskurs (BH40042) 
LOCATION:VHS ABG, Hospitalplatz 6, Raum 14, Hospitalplatz 6, 04600 Altenburg
END:VEVENT
BEGIN:VEVENT
DTSTAMP:20260421T130810
DTSTART;TZID=Europe/Berlin:20260521T080000
DTEND;TZID=Europe/Berlin:20260521T111500
UID:BH40042-20260521T080000@VHSALTENBURGER LAND
SUMMARY:Deutsch-Integrationskurs (BH40042) 
LOCATION:VHS ABG, Hospitalplatz 6, Raum 14, Hospitalplatz 6, 04600 Altenburg
END:VEVENT
BEGIN:VEVENT
DTSTAMP:20260421T130810
DTSTART;TZID=Europe/Berlin:20260526T080000
DTEND;TZID=Europe/Berlin:20260526T111500
UID:BH40042-20260526T080000@VHSALTENBURGER LAND
SUMMARY:Deutsch-Integrationskurs (BH40042) 
LOCATION:VHS ABG, Hospitalplatz 6, Raum 14, Hospitalplatz 6, 04600 Altenburg
END:VEVENT
BEGIN:VEVENT
DTSTAMP:20260421T130810
DTSTART;TZID=Europe/Berlin:20260527T080000
DTEND;TZID=Europe/Berlin:20260527T111500
UID:BH40042-20260527T080000@VHSALTENBURGER LAND
SUMMARY:Deutsch-Integrationskurs (BH40042) 
LOCATION:VHS ABG, Hospitalplatz 6, Raum 14, Hospitalplatz 6, 04600 Altenburg
END:VEVENT
BEGIN:VEVENT
DTSTAMP:20260421T130810
DTSTART;TZID=Europe/Berlin:20260528T080000
DTEND;TZID=Europe/Berlin:20260528T111500
UID:BH40042-20260528T080000@VHSALTENBURGER LAND
SUMMARY:Deutsch-Integrationskurs (BH40042) 
LOCATION:VHS ABG, Hospitalplatz 6, Raum 14, Hospitalplatz 6, 04600 Altenburg
END:VEVENT
BEGIN:VEVENT
DTSTAMP:20260421T130810
DTSTART;TZID=Europe/Berlin:20260601T080000
DTEND;TZID=Europe/Berlin:20260601T111500
UID:BH40042-20260601T080000@VHSALTENBURGER LAND
SUMMARY:Deutsch-Integrationskurs (BH40042) 
LOCATION:VHS ABG, Hospitalplatz 6, Raum 14, Hospitalplatz 6, 04600 Altenburg
END:VEVENT
BEGIN:VEVENT
DTSTAMP:20260421T130810
DTSTART;TZID=Europe/Berlin:20260602T080000
DTEND;TZID=Europe/Berlin:20260602T111500
UID:BH40042-20260602T080000@VHSALTENBURGER LAND
SUMMARY:Deutsch-Integrationskurs (BH40042) 
LOCATION:VHS ABG, Hospitalplatz 6, Raum 14, Hospitalplatz 6, 04600 Altenburg
END:VEVENT
BEGIN:VEVENT
DTSTAMP:20260421T130810
DTSTART;TZID=Europe/Berlin:20260603T080000
DTEND;TZID=Europe/Berlin:20260603T111500
UID:BH40042-20260603T080000@VHSALTENBURGER LAND
SUMMARY:Deutsch-Integrationskurs (BH40042) 
LOCATION:VHS ABG, Hospitalplatz 6, Raum 14, Hospitalplatz 6, 04600 Altenburg
END:VEVENT
BEGIN:VEVENT
DTSTAMP:20260421T130810
DTSTART;TZID=Europe/Berlin:20260604T080000
DTEND;TZID=Europe/Berlin:20260604T111500
UID:BH40042-20260604T080000@VHSALTENBURGER LAND
SUMMARY:Deutsch-Integrationskurs (BH40042) 
LOCATION:VHS ABG, Hospitalplatz 6, Raum 14, Hospitalplatz 6, 04600 Altenburg
END:VEVENT
BEGIN:VEVENT
DTSTAMP:20260421T130810
DTSTART;TZID=Europe/Berlin:20260608T080000
DTEND;TZID=Europe/Berlin:20260608T111500
UID:BH40042-20260608T080000@VHSALTENBURGER LAND
SUMMARY:Deutsch-Integrationskurs (BH40042) 
LOCATION:VHS ABG, Hospitalplatz 6, Raum 14, Hospitalplatz 6, 04600 Altenburg
END:VEVENT
BEGIN:VEVENT
DTSTAMP:20260421T130810
DTSTART;TZID=Europe/Berlin:20260609T080000
DTEND;TZID=Europe/Berlin:20260609T111500
UID:BH40042-20260609T080000@VHSALTENBURGER LAND
SUMMARY:Deutsch-Integrationskurs (BH40042) 
LOCATION:VHS ABG, Hospitalplatz 6, Raum 14, Hospitalplatz 6, 04600 Altenburg
END:VEVENT
BEGIN:VEVENT
DTSTAMP:20260421T130810
DTSTART;TZID=Europe/Berlin:20260610T080000
DTEND;TZID=Europe/Berlin:20260610T111500
UID:BH40042-20260610T080000@VHSALTENBURGER LAND
SUMMARY:Deutsch-Integrationskurs (BH40042) 
LOCATION:VHS ABG, Hospitalplatz 6, Raum 14, Hospitalplatz 6, 04600 Altenburg
END:VEVENT
BEGIN:VEVENT
DTSTAMP:20260421T130810
DTSTART;TZID=Europe/Berlin:20260611T080000
DTEND;TZID=Europe/Berlin:20260611T111500
UID:BH40042-20260611T080000@VHSALTENBURGER LAND
SUMMARY:Deutsch-Integrationskurs (BH40042) 
LOCATION:VHS ABG, Hospitalplatz 6, Raum 14, Hospitalplatz 6, 04600 Altenburg
END:VEVENT
END:VCALENDAR