BEGIN:VCALENDAR
VERSION:2.0
PRODID:https://www.kufer.de/kuferweb / DE
METHOD:PUBLISH
CALSCALE:GREGORIAN
X-WR-TIMEZONE:Europe/Berlin
BEGIN:VTIMEZONE
TZID:Europe/Berlin
X-LIC-LOCATION:Europe/Berlin
BEGIN:DAYLIGHT
TZOFFSETFROM:+0100
TZOFFSETTO:+0200
TZNAME:CEST
DTSTART:19700329T020000
RRULE:FREQ=YEARLY;INTERVAL=1;BYDAY=-1SU;BYMONTH=3
END:DAYLIGHT
BEGIN:STANDARD
TZOFFSETFROM:+0200
TZOFFSETTO:+0100
TZNAME:CET
DTSTART:19701025T030000
RRULE:FREQ=YEARLY;INTERVAL=1;BYDAY=-1SU;BYMONTH=10
END:STANDARD
END:VTIMEZONE
BEGIN:VEVENT
DTSTAMP:20260420T042937
DTSTART;TZID=Europe/Berlin:20260421T163000
DTEND;TZID=Europe/Berlin:20260421T183000
UID:BH3107-20260421T163000@VHSALTENBURGER LAND
SUMMARY:Selbsthilfegruppe ADHS (BH3107) 
LOCATION:VHS ABG, Hospitalplatz 6, Raum 9, Hospitalplatz 6, 04600 Altenburg
END:VEVENT
BEGIN:VEVENT
DTSTAMP:20260420T042937
DTSTART;TZID=Europe/Berlin:20260519T163000
DTEND;TZID=Europe/Berlin:20260519T183000
UID:BH3107-20260519T163000@VHSALTENBURGER LAND
SUMMARY:Selbsthilfegruppe ADHS (BH3107) 
LOCATION:VHS ABG, Hospitalplatz 6, Raum 9, Hospitalplatz 6, 04600 Altenburg
END:VEVENT
BEGIN:VEVENT
DTSTAMP:20260420T042937
DTSTART;TZID=Europe/Berlin:20260630T163000
DTEND;TZID=Europe/Berlin:20260630T183000
UID:BH3107-20260630T163000@VHSALTENBURGER LAND
SUMMARY:Selbsthilfegruppe ADHS (BH3107) 
LOCATION:VHS ABG, Hospitalplatz 6, Raum 9, Hospitalplatz 6, 04600 Altenburg
END:VEVENT
BEGIN:VEVENT
DTSTAMP:20260420T042937
DTSTART;TZID=Europe/Berlin:20260825T163000
DTEND;TZID=Europe/Berlin:20260825T183000
UID:BH3107-20260825T163000@VHSALTENBURGER LAND
SUMMARY:Selbsthilfegruppe ADHS (BH3107) 
LOCATION:VHS ABG, Hospitalplatz 6, Raum 9, Hospitalplatz 6, 04600 Altenburg
END:VEVENT
BEGIN:VEVENT
DTSTAMP:20260420T042937
DTSTART;TZID=Europe/Berlin:20260915T163000
DTEND;TZID=Europe/Berlin:20260915T183000
UID:BH3107-20260915T163000@VHSALTENBURGER LAND
SUMMARY:Selbsthilfegruppe ADHS (BH3107) 
LOCATION:VHS ABG, Hospitalplatz 6, Raum 9, Hospitalplatz 6, 04600 Altenburg
END:VEVENT
BEGIN:VEVENT
DTSTAMP:20260420T042937
DTSTART;TZID=Europe/Berlin:20261006T163000
DTEND;TZID=Europe/Berlin:20261006T183000
UID:BH3107-20261006T163000@VHSALTENBURGER LAND
SUMMARY:Selbsthilfegruppe ADHS (BH3107) 
LOCATION:VHS ABG, Hospitalplatz 6, Raum 9, Hospitalplatz 6, 04600 Altenburg
END:VEVENT
BEGIN:VEVENT
DTSTAMP:20260420T042937
DTSTART;TZID=Europe/Berlin:20261110T163000
DTEND;TZID=Europe/Berlin:20261110T183000
UID:BH3107-20261110T163000@VHSALTENBURGER LAND
SUMMARY:Selbsthilfegruppe ADHS (BH3107) 
LOCATION:VHS ABG, Hospitalplatz 6, Raum 9, Hospitalplatz 6, 04600 Altenburg
END:VEVENT
BEGIN:VEVENT
DTSTAMP:20260420T042937
DTSTART;TZID=Europe/Berlin:20261215T163000
DTEND;TZID=Europe/Berlin:20261215T183000
UID:BH3107-20261215T163000@VHSALTENBURGER LAND
SUMMARY:Selbsthilfegruppe ADHS (BH3107) 
LOCATION:VHS ABG, Hospitalplatz 6, Raum 9, Hospitalplatz 6, 04600 Altenburg
END:VEVENT
END:VCALENDAR