BEGIN:VCALENDAR
VERSION:2.0
PRODID:https://www.kufer.de/kuferweb / DE
METHOD:PUBLISH
CALSCALE:GREGORIAN
X-WR-TIMEZONE:Europe/Berlin
BEGIN:VTIMEZONE
TZID:Europe/Berlin
X-LIC-LOCATION:Europe/Berlin
BEGIN:DAYLIGHT
TZOFFSETFROM:+0100
TZOFFSETTO:+0200
TZNAME:CEST
DTSTART:19700329T020000
RRULE:FREQ=YEARLY;INTERVAL=1;BYDAY=-1SU;BYMONTH=3
END:DAYLIGHT
BEGIN:STANDARD
TZOFFSETFROM:+0200
TZOFFSETTO:+0100
TZNAME:CET
DTSTART:19701025T030000
RRULE:FREQ=YEARLY;INTERVAL=1;BYDAY=-1SU;BYMONTH=10
END:STANDARD
END:VTIMEZONE
BEGIN:VEVENT
DTSTAMP:20260421T135330
DTSTART;TZID=Europe/Berlin:20260210T150000
DTEND;TZID=Europe/Berlin:20260210T170000
UID:BH3100-20260210T150000@VHSALTENBURGER LAND
SUMMARY:Selbsthilfegruppe für Hörgeschädigte (BH3100) 
LOCATION:VHS SLN, Raum 4, Karl-Liebknecht-Straße 2-4, 04626 Schmölln
END:VEVENT
BEGIN:VEVENT
DTSTAMP:20260421T135330
DTSTART;TZID=Europe/Berlin:20260310T150000
DTEND;TZID=Europe/Berlin:20260310T170000
UID:BH3100-20260310T150000@VHSALTENBURGER LAND
SUMMARY:Selbsthilfegruppe für Hörgeschädigte (BH3100) 
LOCATION:VHS SLN, Raum 4, Karl-Liebknecht-Straße 2-4, 04626 Schmölln
END:VEVENT
BEGIN:VEVENT
DTSTAMP:20260421T135330
DTSTART;TZID=Europe/Berlin:20260414T140000
DTEND;TZID=Europe/Berlin:20260414T160000
UID:BH3100-20260414T140000@VHSALTENBURGER LAND
SUMMARY:Selbsthilfegruppe für Hörgeschädigte (BH3100) 
LOCATION:VHS SLN, Raum 4, Karl-Liebknecht-Straße 2-4, 04626 Schmölln
END:VEVENT
BEGIN:VEVENT
DTSTAMP:20260421T135330
DTSTART;TZID=Europe/Berlin:20260512T150000
DTEND;TZID=Europe/Berlin:20260512T170000
UID:BH3100-20260512T150000@VHSALTENBURGER LAND
SUMMARY:Selbsthilfegruppe für Hörgeschädigte (BH3100) 
LOCATION:VHS SLN, Raum 4, Karl-Liebknecht-Straße 2-4, 04626 Schmölln
END:VEVENT
END:VCALENDAR