BEGIN:VCALENDAR
VERSION:2.0
PRODID:https://www.kufer.de/kuferweb / DE
METHOD:PUBLISH
CALSCALE:GREGORIAN
X-WR-TIMEZONE:Europe/Berlin
BEGIN:VTIMEZONE
TZID:Europe/Berlin
X-LIC-LOCATION:Europe/Berlin
BEGIN:DAYLIGHT
TZOFFSETFROM:+0100
TZOFFSETTO:+0200
TZNAME:CEST
DTSTART:19700329T020000
RRULE:FREQ=YEARLY;INTERVAL=1;BYDAY=-1SU;BYMONTH=3
END:DAYLIGHT
BEGIN:STANDARD
TZOFFSETFROM:+0200
TZOFFSETTO:+0100
TZNAME:CET
DTSTART:19701025T030000
RRULE:FREQ=YEARLY;INTERVAL=1;BYDAY=-1SU;BYMONTH=10
END:STANDARD
END:VTIMEZONE
BEGIN:VEVENT
DTSTAMP:20260421T132139
DTSTART;TZID=Europe/Berlin:20260609T163000
DTEND;TZID=Europe/Berlin:20260609T173000
UID:BH3050-20260609T163000@VHSALTENBURGER LAND
SUMMARY:Kräftigende Aqua-Gymnastik (Flachwasser) (BH3050) 
LOCATION:Freizeitbad Tatami Schmölln, Ronneburger Straße 65, 04626 Schmölln
END:VEVENT
BEGIN:VEVENT
DTSTAMP:20260421T132139
DTSTART;TZID=Europe/Berlin:20260616T163000
DTEND;TZID=Europe/Berlin:20260616T173000
UID:BH3050-20260616T163000@VHSALTENBURGER LAND
SUMMARY:Kräftigende Aqua-Gymnastik (Flachwasser) (BH3050) 
LOCATION:Freizeitbad Tatami Schmölln, Ronneburger Straße 65, 04626 Schmölln
END:VEVENT
BEGIN:VEVENT
DTSTAMP:20260421T132139
DTSTART;TZID=Europe/Berlin:20260623T163000
DTEND;TZID=Europe/Berlin:20260623T173000
UID:BH3050-20260623T163000@VHSALTENBURGER LAND
SUMMARY:Kräftigende Aqua-Gymnastik (Flachwasser) (BH3050) 
LOCATION:Freizeitbad Tatami Schmölln, Ronneburger Straße 65, 04626 Schmölln
END:VEVENT
BEGIN:VEVENT
DTSTAMP:20260421T132139
DTSTART;TZID=Europe/Berlin:20260630T163000
DTEND;TZID=Europe/Berlin:20260630T173000
UID:BH3050-20260630T163000@VHSALTENBURGER LAND
SUMMARY:Kräftigende Aqua-Gymnastik (Flachwasser) (BH3050) 
LOCATION:Freizeitbad Tatami Schmölln, Ronneburger Straße 65, 04626 Schmölln
END:VEVENT
BEGIN:VEVENT
DTSTAMP:20260421T132139
DTSTART;TZID=Europe/Berlin:20260818T163000
DTEND;TZID=Europe/Berlin:20260818T173000
UID:BH3050-20260818T163000@VHSALTENBURGER LAND
SUMMARY:Kräftigende Aqua-Gymnastik (Flachwasser) (BH3050) 
LOCATION:Freizeitbad Tatami Schmölln, Ronneburger Straße 65, 04626 Schmölln
END:VEVENT
BEGIN:VEVENT
DTSTAMP:20260421T132139
DTSTART;TZID=Europe/Berlin:20260825T163000
DTEND;TZID=Europe/Berlin:20260825T173000
UID:BH3050-20260825T163000@VHSALTENBURGER LAND
SUMMARY:Kräftigende Aqua-Gymnastik (Flachwasser) (BH3050) 
LOCATION:Freizeitbad Tatami Schmölln, Ronneburger Straße 65, 04626 Schmölln
END:VEVENT
BEGIN:VEVENT
DTSTAMP:20260421T132139
DTSTART;TZID=Europe/Berlin:20260901T163000
DTEND;TZID=Europe/Berlin:20260901T173000
UID:BH3050-20260901T163000@VHSALTENBURGER LAND
SUMMARY:Kräftigende Aqua-Gymnastik (Flachwasser) (BH3050) 
LOCATION:Freizeitbad Tatami Schmölln, Ronneburger Straße 65, 04626 Schmölln
END:VEVENT
BEGIN:VEVENT
DTSTAMP:20260421T132139
DTSTART;TZID=Europe/Berlin:20260908T163000
DTEND;TZID=Europe/Berlin:20260908T173000
UID:BH3050-20260908T163000@VHSALTENBURGER LAND
SUMMARY:Kräftigende Aqua-Gymnastik (Flachwasser) (BH3050) 
LOCATION:Freizeitbad Tatami Schmölln, Ronneburger Straße 65, 04626 Schmölln
END:VEVENT
BEGIN:VEVENT
DTSTAMP:20260421T132139
DTSTART;TZID=Europe/Berlin:20260915T163000
DTEND;TZID=Europe/Berlin:20260915T173000
UID:BH3050-20260915T163000@VHSALTENBURGER LAND
SUMMARY:Kräftigende Aqua-Gymnastik (Flachwasser) (BH3050) 
LOCATION:Freizeitbad Tatami Schmölln, Ronneburger Straße 65, 04626 Schmölln
END:VEVENT
BEGIN:VEVENT
DTSTAMP:20260421T132139
DTSTART;TZID=Europe/Berlin:20260929T163000
DTEND;TZID=Europe/Berlin:20260929T173000
UID:BH3050-20260929T163000@VHSALTENBURGER LAND
SUMMARY:Kräftigende Aqua-Gymnastik (Flachwasser) (BH3050) 
LOCATION:Freizeitbad Tatami Schmölln, Ronneburger Straße 65, 04626 Schmölln
END:VEVENT
END:VCALENDAR