BEGIN:VCALENDAR
VERSION:2.0
PRODID:https://www.kufer.de/kuferweb / DE
METHOD:PUBLISH
CALSCALE:GREGORIAN
X-WR-TIMEZONE:Europe/Berlin
BEGIN:VTIMEZONE
TZID:Europe/Berlin
X-LIC-LOCATION:Europe/Berlin
BEGIN:DAYLIGHT
TZOFFSETFROM:+0100
TZOFFSETTO:+0200
TZNAME:CEST
DTSTART:19700329T020000
RRULE:FREQ=YEARLY;INTERVAL=1;BYDAY=-1SU;BYMONTH=3
END:DAYLIGHT
BEGIN:STANDARD
TZOFFSETFROM:+0200
TZOFFSETTO:+0100
TZNAME:CET
DTSTART:19701025T030000
RRULE:FREQ=YEARLY;INTERVAL=1;BYDAY=-1SU;BYMONTH=10
END:STANDARD
END:VTIMEZONE
BEGIN:VEVENT
DTSTAMP:20260421T151451
DTSTART;TZID=Europe/Berlin:20260407T161500
DTEND;TZID=Europe/Berlin:20260407T170000
UID:BH3042-20260407T161500@VHSALTENBURGER LAND
SUMMARY:Step-Aerobic (BH3042) 
LOCATION:VHS SLN, Gymnastikraum, Karl-Liebknecht-Straße 2-4, 04626 Schmölln
END:VEVENT
BEGIN:VEVENT
DTSTAMP:20260421T151451
DTSTART;TZID=Europe/Berlin:20260505T161500
DTEND;TZID=Europe/Berlin:20260505T170000
UID:BH3042-20260505T161500@VHSALTENBURGER LAND
SUMMARY:Step-Aerobic (BH3042) 
LOCATION:VHS SLN, Gymnastikraum, Karl-Liebknecht-Straße 2-4, 04626 Schmölln
END:VEVENT
BEGIN:VEVENT
DTSTAMP:20260421T151451
DTSTART;TZID=Europe/Berlin:20260512T161500
DTEND;TZID=Europe/Berlin:20260512T170000
UID:BH3042-20260512T161500@VHSALTENBURGER LAND
SUMMARY:Step-Aerobic (BH3042) 
LOCATION:VHS SLN, Gymnastikraum, Karl-Liebknecht-Straße 2-4, 04626 Schmölln
END:VEVENT
BEGIN:VEVENT
DTSTAMP:20260421T151451
DTSTART;TZID=Europe/Berlin:20260519T161500
DTEND;TZID=Europe/Berlin:20260519T170000
UID:BH3042-20260519T161500@VHSALTENBURGER LAND
SUMMARY:Step-Aerobic (BH3042) 
LOCATION:VHS SLN, Gymnastikraum, Karl-Liebknecht-Straße 2-4, 04626 Schmölln
END:VEVENT
BEGIN:VEVENT
DTSTAMP:20260421T151451
DTSTART;TZID=Europe/Berlin:20260526T161500
DTEND;TZID=Europe/Berlin:20260526T170000
UID:BH3042-20260526T161500@VHSALTENBURGER LAND
SUMMARY:Step-Aerobic (BH3042) 
LOCATION:VHS SLN, Gymnastikraum, Karl-Liebknecht-Straße 2-4, 04626 Schmölln
END:VEVENT
BEGIN:VEVENT
DTSTAMP:20260421T151451
DTSTART;TZID=Europe/Berlin:20260602T161500
DTEND;TZID=Europe/Berlin:20260602T170000
UID:BH3042-20260602T161500@VHSALTENBURGER LAND
SUMMARY:Step-Aerobic (BH3042) 
LOCATION:VHS SLN, Gymnastikraum, Karl-Liebknecht-Straße 2-4, 04626 Schmölln
END:VEVENT
BEGIN:VEVENT
DTSTAMP:20260421T151451
DTSTART;TZID=Europe/Berlin:20260609T161500
DTEND;TZID=Europe/Berlin:20260609T170000
UID:BH3042-20260609T161500@VHSALTENBURGER LAND
SUMMARY:Step-Aerobic (BH3042) 
LOCATION:VHS SLN, Gymnastikraum, Karl-Liebknecht-Straße 2-4, 04626 Schmölln
END:VEVENT
BEGIN:VEVENT
DTSTAMP:20260421T151451
DTSTART;TZID=Europe/Berlin:20260616T161500
DTEND;TZID=Europe/Berlin:20260616T170000
UID:BH3042-20260616T161500@VHSALTENBURGER LAND
DESCRIPTION:Ersatz für Ausfall am 14.04.2026
SUMMARY:Step-Aerobic (BH3042) 
LOCATION:VHS SLN, Gymnastikraum, Karl-Liebknecht-Straße 2-4, 04626 Schmölln
END:VEVENT
BEGIN:VEVENT
DTSTAMP:20260421T151451
DTSTART;TZID=Europe/Berlin:20260623T161500
DTEND;TZID=Europe/Berlin:20260623T170000
UID:BH3042-20260623T161500@VHSALTENBURGER LAND
DESCRIPTION:Für Ausfall am 21.04.26
SUMMARY:Step-Aerobic (BH3042) 
LOCATION:VHS SLN, Gymnastikraum, Karl-Liebknecht-Straße 2-4, 04626 Schmölln
END:VEVENT
BEGIN:VEVENT
DTSTAMP:20260421T151451
DTSTART;TZID=Europe/Berlin:20260630T161500
DTEND;TZID=Europe/Berlin:20260630T170000
UID:BH3042-20260630T161500@VHSALTENBURGER LAND
DESCRIPTION:Für Ausfall am 21.04.26
SUMMARY:Step-Aerobic (BH3042) 
LOCATION:VHS SLN, Gymnastikraum, Karl-Liebknecht-Straße 2-4, 04626 Schmölln
END:VEVENT
END:VCALENDAR