BEGIN:VCALENDAR
VERSION:2.0
PRODID:https://www.kufer.de/kuferweb / DE
METHOD:PUBLISH
CALSCALE:GREGORIAN
X-WR-TIMEZONE:Europe/Berlin
BEGIN:VTIMEZONE
TZID:Europe/Berlin
X-LIC-LOCATION:Europe/Berlin
BEGIN:DAYLIGHT
TZOFFSETFROM:+0100
TZOFFSETTO:+0200
TZNAME:CEST
DTSTART:19700329T020000
RRULE:FREQ=YEARLY;INTERVAL=1;BYDAY=-1SU;BYMONTH=3
END:DAYLIGHT
BEGIN:STANDARD
TZOFFSETFROM:+0200
TZOFFSETTO:+0100
TZNAME:CET
DTSTART:19701025T030000
RRULE:FREQ=YEARLY;INTERVAL=1;BYDAY=-1SU;BYMONTH=10
END:STANDARD
END:VTIMEZONE
BEGIN:VEVENT
DTSTAMP:20260421T132432
DTSTART;TZID=Europe/Berlin:20260303T131500
DTEND;TZID=Europe/Berlin:20260303T141500
UID:BH3040-20260303T131500@VHSALTENBURGER LAND
SUMMARY:Gesund und aktiv ins Alter (BH3040) 
LOCATION:VHS SLN, Gymnastikraum, Karl-Liebknecht-Straße 2-4, 04626 Schmölln
END:VEVENT
BEGIN:VEVENT
DTSTAMP:20260421T132432
DTSTART;TZID=Europe/Berlin:20260310T131500
DTEND;TZID=Europe/Berlin:20260310T141500
UID:BH3040-20260310T131500@VHSALTENBURGER LAND
SUMMARY:Gesund und aktiv ins Alter (BH3040) 
LOCATION:VHS SLN, Gymnastikraum, Karl-Liebknecht-Straße 2-4, 04626 Schmölln
END:VEVENT
BEGIN:VEVENT
DTSTAMP:20260421T132432
DTSTART;TZID=Europe/Berlin:20260324T131500
DTEND;TZID=Europe/Berlin:20260324T141500
UID:BH3040-20260324T131500@VHSALTENBURGER LAND
SUMMARY:Gesund und aktiv ins Alter (BH3040) 
LOCATION:VHS SLN, Gymnastikraum, Karl-Liebknecht-Straße 2-4, 04626 Schmölln
END:VEVENT
BEGIN:VEVENT
DTSTAMP:20260421T132432
DTSTART;TZID=Europe/Berlin:20260331T131500
DTEND;TZID=Europe/Berlin:20260331T141500
UID:BH3040-20260331T131500@VHSALTENBURGER LAND
SUMMARY:Gesund und aktiv ins Alter (BH3040) 
LOCATION:VHS SLN, Gymnastikraum, Karl-Liebknecht-Straße 2-4, 04626 Schmölln
END:VEVENT
BEGIN:VEVENT
DTSTAMP:20260421T132432
DTSTART;TZID=Europe/Berlin:20260414T131500
DTEND;TZID=Europe/Berlin:20260414T141500
UID:BH3040-20260414T131500@VHSALTENBURGER LAND
SUMMARY:Gesund und aktiv ins Alter (BH3040) 
LOCATION:VHS SLN, Gymnastikraum, Karl-Liebknecht-Straße 2-4, 04626 Schmölln
END:VEVENT
BEGIN:VEVENT
DTSTAMP:20260421T132432
DTSTART;TZID=Europe/Berlin:20260428T131500
DTEND;TZID=Europe/Berlin:20260428T141500
UID:BH3040-20260428T131500@VHSALTENBURGER LAND
SUMMARY:Gesund und aktiv ins Alter (BH3040) 
LOCATION:VHS SLN, Gymnastikraum, Karl-Liebknecht-Straße 2-4, 04626 Schmölln
END:VEVENT
BEGIN:VEVENT
DTSTAMP:20260421T132432
DTSTART;TZID=Europe/Berlin:20260505T131500
DTEND;TZID=Europe/Berlin:20260505T141500
UID:BH3040-20260505T131500@VHSALTENBURGER LAND
SUMMARY:Gesund und aktiv ins Alter (BH3040) 
LOCATION:VHS SLN, Gymnastikraum, Karl-Liebknecht-Straße 2-4, 04626 Schmölln
END:VEVENT
BEGIN:VEVENT
DTSTAMP:20260421T132432
DTSTART;TZID=Europe/Berlin:20260512T131500
DTEND;TZID=Europe/Berlin:20260512T141500
UID:BH3040-20260512T131500@VHSALTENBURGER LAND
SUMMARY:Gesund und aktiv ins Alter (BH3040) 
LOCATION:VHS SLN, Gymnastikraum, Karl-Liebknecht-Straße 2-4, 04626 Schmölln
END:VEVENT
BEGIN:VEVENT
DTSTAMP:20260421T132432
DTSTART;TZID=Europe/Berlin:20260519T131500
DTEND;TZID=Europe/Berlin:20260519T141500
UID:BH3040-20260519T131500@VHSALTENBURGER LAND
SUMMARY:Gesund und aktiv ins Alter (BH3040) 
LOCATION:VHS SLN, Gymnastikraum, Karl-Liebknecht-Straße 2-4, 04626 Schmölln
END:VEVENT
BEGIN:VEVENT
DTSTAMP:20260421T132432
DTSTART;TZID=Europe/Berlin:20260526T131500
DTEND;TZID=Europe/Berlin:20260526T141500
UID:BH3040-20260526T131500@VHSALTENBURGER LAND
SUMMARY:Gesund und aktiv ins Alter (BH3040) 
LOCATION:VHS SLN, Gymnastikraum, Karl-Liebknecht-Straße 2-4, 04626 Schmölln
END:VEVENT
END:VCALENDAR