BEGIN:VCALENDAR
VERSION:2.0
PRODID:https://www.kufer.de/kuferweb / DE
METHOD:PUBLISH
CALSCALE:GREGORIAN
X-WR-TIMEZONE:Europe/Berlin
BEGIN:VTIMEZONE
TZID:Europe/Berlin
X-LIC-LOCATION:Europe/Berlin
BEGIN:DAYLIGHT
TZOFFSETFROM:+0100
TZOFFSETTO:+0200
TZNAME:CEST
DTSTART:19700329T020000
RRULE:FREQ=YEARLY;INTERVAL=1;BYDAY=-1SU;BYMONTH=3
END:DAYLIGHT
BEGIN:STANDARD
TZOFFSETFROM:+0200
TZOFFSETTO:+0100
TZNAME:CET
DTSTART:19701025T030000
RRULE:FREQ=YEARLY;INTERVAL=1;BYDAY=-1SU;BYMONTH=10
END:STANDARD
END:VTIMEZONE
BEGIN:VEVENT
DTSTAMP:20260421T154029
DTSTART;TZID=Europe/Berlin:20260212T180000
DTEND;TZID=Europe/Berlin:20260212T191500
UID:BH3038-20260212T180000@VHSALTENBURGER LAND
SUMMARY:Fit für den Alltag - Ganzkörperkräftigung (10x75min) (BH3038) 
LOCATION:Saal Lohsenstr. 25, Lohsenstraße 25, 04626 Schmölln
END:VEVENT
BEGIN:VEVENT
DTSTAMP:20260421T154029
DTSTART;TZID=Europe/Berlin:20260219T180000
DTEND;TZID=Europe/Berlin:20260219T191500
UID:BH3038-20260219T180000@VHSALTENBURGER LAND
SUMMARY:Fit für den Alltag - Ganzkörperkräftigung (10x75min) (BH3038) 
LOCATION:Saal Lohsenstr. 25, Lohsenstraße 25, 04626 Schmölln
END:VEVENT
BEGIN:VEVENT
DTSTAMP:20260421T154029
DTSTART;TZID=Europe/Berlin:20260226T180000
DTEND;TZID=Europe/Berlin:20260226T191500
UID:BH3038-20260226T180000@VHSALTENBURGER LAND
SUMMARY:Fit für den Alltag - Ganzkörperkräftigung (10x75min) (BH3038) 
LOCATION:Saal Lohsenstr. 25, Lohsenstraße 25, 04626 Schmölln
END:VEVENT
BEGIN:VEVENT
DTSTAMP:20260421T154029
DTSTART;TZID=Europe/Berlin:20260319T180000
DTEND;TZID=Europe/Berlin:20260319T191500
UID:BH3038-20260319T180000@VHSALTENBURGER LAND
SUMMARY:Fit für den Alltag - Ganzkörperkräftigung (10x75min) (BH3038) 
LOCATION:Saal Lohsenstr. 25, Lohsenstraße 25, 04626 Schmölln
END:VEVENT
BEGIN:VEVENT
DTSTAMP:20260421T154029
DTSTART;TZID=Europe/Berlin:20260326T180000
DTEND;TZID=Europe/Berlin:20260326T191500
UID:BH3038-20260326T180000@VHSALTENBURGER LAND
SUMMARY:Fit für den Alltag - Ganzkörperkräftigung (10x75min) (BH3038) 
LOCATION:Saal Lohsenstr. 25, Lohsenstraße 25, 04626 Schmölln
END:VEVENT
BEGIN:VEVENT
DTSTAMP:20260421T154029
DTSTART;TZID=Europe/Berlin:20260402T180000
DTEND;TZID=Europe/Berlin:20260402T191500
UID:BH3038-20260402T180000@VHSALTENBURGER LAND
SUMMARY:Fit für den Alltag - Ganzkörperkräftigung (10x75min) (BH3038) 
LOCATION:Saal Lohsenstr. 25, Lohsenstraße 25, 04626 Schmölln
END:VEVENT
BEGIN:VEVENT
DTSTAMP:20260421T154029
DTSTART;TZID=Europe/Berlin:20260409T180000
DTEND;TZID=Europe/Berlin:20260409T191500
UID:BH3038-20260409T180000@VHSALTENBURGER LAND
SUMMARY:Fit für den Alltag - Ganzkörperkräftigung (10x75min) (BH3038) 
LOCATION:Saal Lohsenstr. 25, Lohsenstraße 25, 04626 Schmölln
END:VEVENT
BEGIN:VEVENT
DTSTAMP:20260421T154029
DTSTART;TZID=Europe/Berlin:20260416T180000
DTEND;TZID=Europe/Berlin:20260416T191500
UID:BH3038-20260416T180000@VHSALTENBURGER LAND
SUMMARY:Fit für den Alltag - Ganzkörperkräftigung (10x75min) (BH3038) 
LOCATION:Saal Lohsenstr. 25, Lohsenstraße 25, 04626 Schmölln
END:VEVENT
BEGIN:VEVENT
DTSTAMP:20260421T154029
DTSTART;TZID=Europe/Berlin:20260423T180000
DTEND;TZID=Europe/Berlin:20260423T191500
UID:BH3038-20260423T180000@VHSALTENBURGER LAND
SUMMARY:Fit für den Alltag - Ganzkörperkräftigung (10x75min) (BH3038) 
LOCATION:Saal Lohsenstr. 25, Lohsenstraße 25, 04626 Schmölln
END:VEVENT
BEGIN:VEVENT
DTSTAMP:20260421T154029
DTSTART;TZID=Europe/Berlin:20260430T180000
DTEND;TZID=Europe/Berlin:20260430T191500
UID:BH3038-20260430T180000@VHSALTENBURGER LAND
SUMMARY:Fit für den Alltag - Ganzkörperkräftigung (10x75min) (BH3038) 
LOCATION:Saal Lohsenstr. 25, Lohsenstraße 25, 04626 Schmölln
END:VEVENT
END:VCALENDAR