BEGIN:VCALENDAR
VERSION:2.0
PRODID:https://www.kufer.de/kuferweb / DE
METHOD:PUBLISH
CALSCALE:GREGORIAN
X-WR-TIMEZONE:Europe/Berlin
BEGIN:VTIMEZONE
TZID:Europe/Berlin
X-LIC-LOCATION:Europe/Berlin
BEGIN:DAYLIGHT
TZOFFSETFROM:+0100
TZOFFSETTO:+0200
TZNAME:CEST
DTSTART:19700329T020000
RRULE:FREQ=YEARLY;INTERVAL=1;BYDAY=-1SU;BYMONTH=3
END:DAYLIGHT
BEGIN:STANDARD
TZOFFSETFROM:+0200
TZOFFSETTO:+0100
TZNAME:CET
DTSTART:19701025T030000
RRULE:FREQ=YEARLY;INTERVAL=1;BYDAY=-1SU;BYMONTH=10
END:STANDARD
END:VTIMEZONE
BEGIN:VEVENT
DTSTAMP:20260421T135326
DTSTART;TZID=Europe/Berlin:20260225T143000
DTEND;TZID=Europe/Berlin:20260225T153000
UID:BH3035-20260225T143000@VHSALTENBURGER LAND
SUMMARY:Leben ist Bewegung (BH3035) 
LOCATION:VHS SLN, Gymnastikraum, Karl-Liebknecht-Straße 2-4, 04626 Schmölln
END:VEVENT
BEGIN:VEVENT
DTSTAMP:20260421T135326
DTSTART;TZID=Europe/Berlin:20260304T143000
DTEND;TZID=Europe/Berlin:20260304T153000
UID:BH3035-20260304T143000@VHSALTENBURGER LAND
SUMMARY:Leben ist Bewegung (BH3035) 
LOCATION:VHS SLN, Gymnastikraum, Karl-Liebknecht-Straße 2-4, 04626 Schmölln
END:VEVENT
BEGIN:VEVENT
DTSTAMP:20260421T135326
DTSTART;TZID=Europe/Berlin:20260311T143000
DTEND;TZID=Europe/Berlin:20260311T153000
UID:BH3035-20260311T143000@VHSALTENBURGER LAND
SUMMARY:Leben ist Bewegung (BH3035) 
LOCATION:VHS SLN, Gymnastikraum, Karl-Liebknecht-Straße 2-4, 04626 Schmölln
END:VEVENT
BEGIN:VEVENT
DTSTAMP:20260421T135326
DTSTART;TZID=Europe/Berlin:20260318T143000
DTEND;TZID=Europe/Berlin:20260318T153000
UID:BH3035-20260318T143000@VHSALTENBURGER LAND
SUMMARY:Leben ist Bewegung (BH3035) 
LOCATION:VHS SLN, Gymnastikraum, Karl-Liebknecht-Straße 2-4, 04626 Schmölln
END:VEVENT
BEGIN:VEVENT
DTSTAMP:20260421T135326
DTSTART;TZID=Europe/Berlin:20260325T143000
DTEND;TZID=Europe/Berlin:20260325T153000
UID:BH3035-20260325T143000@VHSALTENBURGER LAND
SUMMARY:Leben ist Bewegung (BH3035) 
LOCATION:VHS SLN, Gymnastikraum, Karl-Liebknecht-Straße 2-4, 04626 Schmölln
END:VEVENT
BEGIN:VEVENT
DTSTAMP:20260421T135326
DTSTART;TZID=Europe/Berlin:20260401T143000
DTEND;TZID=Europe/Berlin:20260401T153000
UID:BH3035-20260401T143000@VHSALTENBURGER LAND
SUMMARY:Leben ist Bewegung (BH3035) 
LOCATION:VHS SLN, Gymnastikraum, Karl-Liebknecht-Straße 2-4, 04626 Schmölln
END:VEVENT
BEGIN:VEVENT
DTSTAMP:20260421T135326
DTSTART;TZID=Europe/Berlin:20260408T143000
DTEND;TZID=Europe/Berlin:20260408T153000
UID:BH3035-20260408T143000@VHSALTENBURGER LAND
SUMMARY:Leben ist Bewegung (BH3035) 
LOCATION:VHS SLN, Gymnastikraum, Karl-Liebknecht-Straße 2-4, 04626 Schmölln
END:VEVENT
BEGIN:VEVENT
DTSTAMP:20260421T135326
DTSTART;TZID=Europe/Berlin:20260415T143000
DTEND;TZID=Europe/Berlin:20260415T153000
UID:BH3035-20260415T143000@VHSALTENBURGER LAND
SUMMARY:Leben ist Bewegung (BH3035) 
LOCATION:VHS SLN, Gymnastikraum, Karl-Liebknecht-Straße 2-4, 04626 Schmölln
END:VEVENT
BEGIN:VEVENT
DTSTAMP:20260421T135326
DTSTART;TZID=Europe/Berlin:20260422T143000
DTEND;TZID=Europe/Berlin:20260422T153000
UID:BH3035-20260422T143000@VHSALTENBURGER LAND
SUMMARY:Leben ist Bewegung (BH3035) 
LOCATION:VHS SLN, Gymnastikraum, Karl-Liebknecht-Straße 2-4, 04626 Schmölln
END:VEVENT
BEGIN:VEVENT
DTSTAMP:20260421T135326
DTSTART;TZID=Europe/Berlin:20260429T143000
DTEND;TZID=Europe/Berlin:20260429T153000
UID:BH3035-20260429T143000@VHSALTENBURGER LAND
SUMMARY:Leben ist Bewegung (BH3035) 
LOCATION:VHS SLN, Gymnastikraum, Karl-Liebknecht-Straße 2-4, 04626 Schmölln
END:VEVENT
END:VCALENDAR