BEGIN:VCALENDAR
VERSION:2.0
PRODID:https://www.kufer.de/kuferweb / DE
METHOD:PUBLISH
CALSCALE:GREGORIAN
X-WR-TIMEZONE:Europe/Berlin
BEGIN:VTIMEZONE
TZID:Europe/Berlin
X-LIC-LOCATION:Europe/Berlin
BEGIN:DAYLIGHT
TZOFFSETFROM:+0100
TZOFFSETTO:+0200
TZNAME:CEST
DTSTART:19700329T020000
RRULE:FREQ=YEARLY;INTERVAL=1;BYDAY=-1SU;BYMONTH=3
END:DAYLIGHT
BEGIN:STANDARD
TZOFFSETFROM:+0200
TZOFFSETTO:+0100
TZNAME:CET
DTSTART:19701025T030000
RRULE:FREQ=YEARLY;INTERVAL=1;BYDAY=-1SU;BYMONTH=10
END:STANDARD
END:VTIMEZONE
BEGIN:VEVENT
DTSTAMP:20260421T132503
DTSTART;TZID=Europe/Berlin:20260327T174500
DTEND;TZID=Europe/Berlin:20260327T191500
UID:BH3018-20260327T174500@VHSALTENBURGER LAND
SUMMARY:Hatha Yoga (10x90min) (BH3018) 
LOCATION:VHS SLN, Gymnastikraum, Karl-Liebknecht-Straße 2-4, 04626 Schmölln
END:VEVENT
BEGIN:VEVENT
DTSTAMP:20260421T132503
DTSTART;TZID=Europe/Berlin:20260424T174500
DTEND;TZID=Europe/Berlin:20260424T191500
UID:BH3018-20260424T174500@VHSALTENBURGER LAND
SUMMARY:Hatha Yoga (10x90min) (BH3018) 
LOCATION:VHS SLN, Gymnastikraum, Karl-Liebknecht-Straße 2-4, 04626 Schmölln
END:VEVENT
BEGIN:VEVENT
DTSTAMP:20260421T132503
DTSTART;TZID=Europe/Berlin:20260508T174500
DTEND;TZID=Europe/Berlin:20260508T191500
UID:BH3018-20260508T174500@VHSALTENBURGER LAND
SUMMARY:Hatha Yoga (10x90min) (BH3018) 
LOCATION:VHS SLN, Gymnastikraum, Karl-Liebknecht-Straße 2-4, 04626 Schmölln
END:VEVENT
BEGIN:VEVENT
DTSTAMP:20260421T132503
DTSTART;TZID=Europe/Berlin:20260522T174500
DTEND;TZID=Europe/Berlin:20260522T191500
UID:BH3018-20260522T174500@VHSALTENBURGER LAND
SUMMARY:Hatha Yoga (10x90min) (BH3018) 
LOCATION:VHS SLN, Gymnastikraum, Karl-Liebknecht-Straße 2-4, 04626 Schmölln
END:VEVENT
BEGIN:VEVENT
DTSTAMP:20260421T132503
DTSTART;TZID=Europe/Berlin:20260529T174500
DTEND;TZID=Europe/Berlin:20260529T191500
UID:BH3018-20260529T174500@VHSALTENBURGER LAND
SUMMARY:Hatha Yoga (10x90min) (BH3018) 
LOCATION:VHS SLN, Gymnastikraum, Karl-Liebknecht-Straße 2-4, 04626 Schmölln
END:VEVENT
BEGIN:VEVENT
DTSTAMP:20260421T132503
DTSTART;TZID=Europe/Berlin:20260605T174500
DTEND;TZID=Europe/Berlin:20260605T191500
UID:BH3018-20260605T174500@VHSALTENBURGER LAND
SUMMARY:Hatha Yoga (10x90min) (BH3018) 
LOCATION:VHS SLN, Gymnastikraum, Karl-Liebknecht-Straße 2-4, 04626 Schmölln
END:VEVENT
BEGIN:VEVENT
DTSTAMP:20260421T132503
DTSTART;TZID=Europe/Berlin:20260612T174500
DTEND;TZID=Europe/Berlin:20260612T191500
UID:BH3018-20260612T174500@VHSALTENBURGER LAND
SUMMARY:Hatha Yoga (10x90min) (BH3018) 
LOCATION:VHS SLN, Gymnastikraum, Karl-Liebknecht-Straße 2-4, 04626 Schmölln
END:VEVENT
BEGIN:VEVENT
DTSTAMP:20260421T132503
DTSTART;TZID=Europe/Berlin:20260619T174500
DTEND;TZID=Europe/Berlin:20260619T191500
UID:BH3018-20260619T174500@VHSALTENBURGER LAND
SUMMARY:Hatha Yoga (10x90min) (BH3018) 
LOCATION:VHS SLN, Gymnastikraum, Karl-Liebknecht-Straße 2-4, 04626 Schmölln
END:VEVENT
BEGIN:VEVENT
DTSTAMP:20260421T132503
DTSTART;TZID=Europe/Berlin:20260626T174500
DTEND;TZID=Europe/Berlin:20260626T191500
UID:BH3018-20260626T174500@VHSALTENBURGER LAND
SUMMARY:Hatha Yoga (10x90min) (BH3018) 
LOCATION:VHS SLN, Gymnastikraum, Karl-Liebknecht-Straße 2-4, 04626 Schmölln
END:VEVENT
BEGIN:VEVENT
DTSTAMP:20260421T132503
DTSTART;TZID=Europe/Berlin:20260703T174500
DTEND;TZID=Europe/Berlin:20260703T191500
UID:BH3018-20260703T174500@VHSALTENBURGER LAND
SUMMARY:Hatha Yoga (10x90min) (BH3018) 
LOCATION:VHS SLN, Gymnastikraum, Karl-Liebknecht-Straße 2-4, 04626 Schmölln
END:VEVENT
END:VCALENDAR