BEGIN:VCALENDAR
VERSION:2.0
PRODID:https://www.kufer.de/kuferweb / DE
METHOD:PUBLISH
CALSCALE:GREGORIAN
X-WR-TIMEZONE:Europe/Berlin
BEGIN:VTIMEZONE
TZID:Europe/Berlin
X-LIC-LOCATION:Europe/Berlin
BEGIN:DAYLIGHT
TZOFFSETFROM:+0100
TZOFFSETTO:+0200
TZNAME:CEST
DTSTART:19700329T020000
RRULE:FREQ=YEARLY;INTERVAL=1;BYDAY=-1SU;BYMONTH=3
END:DAYLIGHT
BEGIN:STANDARD
TZOFFSETFROM:+0200
TZOFFSETTO:+0100
TZNAME:CET
DTSTART:19701025T030000
RRULE:FREQ=YEARLY;INTERVAL=1;BYDAY=-1SU;BYMONTH=10
END:STANDARD
END:VTIMEZONE
BEGIN:VEVENT
DTSTAMP:20260421T132454
DTSTART;TZID=Europe/Berlin:20260326T170000
DTEND;TZID=Europe/Berlin:20260326T183000
UID:BH3016-20260326T170000@VHSALTENBURGER LAND
SUMMARY:Hatha Yoga (10x90min) (BH3016) 
LOCATION:VHS SLN, Gymnastikraum, Karl-Liebknecht-Straße 2-4, 04626 Schmölln
END:VEVENT
BEGIN:VEVENT
DTSTAMP:20260421T132454
DTSTART;TZID=Europe/Berlin:20260402T170000
DTEND;TZID=Europe/Berlin:20260402T183000
UID:BH3016-20260402T170000@VHSALTENBURGER LAND
SUMMARY:Hatha Yoga (10x90min) (BH3016) 
LOCATION:VHS SLN, Gymnastikraum, Karl-Liebknecht-Straße 2-4, 04626 Schmölln
END:VEVENT
BEGIN:VEVENT
DTSTAMP:20260421T132454
DTSTART;TZID=Europe/Berlin:20260423T170000
DTEND;TZID=Europe/Berlin:20260423T183000
UID:BH3016-20260423T170000@VHSALTENBURGER LAND
SUMMARY:Hatha Yoga (10x90min) (BH3016) 
LOCATION:VHS SLN, Gymnastikraum, Karl-Liebknecht-Straße 2-4, 04626 Schmölln
END:VEVENT
BEGIN:VEVENT
DTSTAMP:20260421T132454
DTSTART;TZID=Europe/Berlin:20260430T170000
DTEND;TZID=Europe/Berlin:20260430T183000
UID:BH3016-20260430T170000@VHSALTENBURGER LAND
SUMMARY:Hatha Yoga (10x90min) (BH3016) 
LOCATION:VHS SLN, Gymnastikraum, Karl-Liebknecht-Straße 2-4, 04626 Schmölln
END:VEVENT
BEGIN:VEVENT
DTSTAMP:20260421T132454
DTSTART;TZID=Europe/Berlin:20260521T170000
DTEND;TZID=Europe/Berlin:20260521T183000
UID:BH3016-20260521T170000@VHSALTENBURGER LAND
SUMMARY:Hatha Yoga (10x90min) (BH3016) 
LOCATION:VHS SLN, Gymnastikraum, Karl-Liebknecht-Straße 2-4, 04626 Schmölln
END:VEVENT
BEGIN:VEVENT
DTSTAMP:20260421T132454
DTSTART;TZID=Europe/Berlin:20260528T170000
DTEND;TZID=Europe/Berlin:20260528T183000
UID:BH3016-20260528T170000@VHSALTENBURGER LAND
SUMMARY:Hatha Yoga (10x90min) (BH3016) 
LOCATION:VHS SLN, Gymnastikraum, Karl-Liebknecht-Straße 2-4, 04626 Schmölln
END:VEVENT
BEGIN:VEVENT
DTSTAMP:20260421T132454
DTSTART;TZID=Europe/Berlin:20260604T170000
DTEND;TZID=Europe/Berlin:20260604T183000
UID:BH3016-20260604T170000@VHSALTENBURGER LAND
SUMMARY:Hatha Yoga (10x90min) (BH3016) 
LOCATION:VHS SLN, Gymnastikraum, Karl-Liebknecht-Straße 2-4, 04626 Schmölln
END:VEVENT
BEGIN:VEVENT
DTSTAMP:20260421T132454
DTSTART;TZID=Europe/Berlin:20260611T170000
DTEND;TZID=Europe/Berlin:20260611T183000
UID:BH3016-20260611T170000@VHSALTENBURGER LAND
SUMMARY:Hatha Yoga (10x90min) (BH3016) 
LOCATION:VHS SLN, Gymnastikraum, Karl-Liebknecht-Straße 2-4, 04626 Schmölln
END:VEVENT
BEGIN:VEVENT
DTSTAMP:20260421T132454
DTSTART;TZID=Europe/Berlin:20260618T170000
DTEND;TZID=Europe/Berlin:20260618T183000
UID:BH3016-20260618T170000@VHSALTENBURGER LAND
SUMMARY:Hatha Yoga (10x90min) (BH3016) 
LOCATION:VHS SLN, Gymnastikraum, Karl-Liebknecht-Straße 2-4, 04626 Schmölln
END:VEVENT
BEGIN:VEVENT
DTSTAMP:20260421T132454
DTSTART;TZID=Europe/Berlin:20260625T170000
DTEND;TZID=Europe/Berlin:20260625T183000
UID:BH3016-20260625T170000@VHSALTENBURGER LAND
SUMMARY:Hatha Yoga (10x90min) (BH3016) 
LOCATION:VHS SLN, Gymnastikraum, Karl-Liebknecht-Straße 2-4, 04626 Schmölln
END:VEVENT
END:VCALENDAR