BEGIN:VCALENDAR
VERSION:2.0
PRODID:https://www.kufer.de/kuferweb / DE
METHOD:PUBLISH
CALSCALE:GREGORIAN
X-WR-TIMEZONE:Europe/Berlin
BEGIN:VTIMEZONE
TZID:Europe/Berlin
X-LIC-LOCATION:Europe/Berlin
BEGIN:DAYLIGHT
TZOFFSETFROM:+0100
TZOFFSETTO:+0200
TZNAME:CEST
DTSTART:19700329T020000
RRULE:FREQ=YEARLY;INTERVAL=1;BYDAY=-1SU;BYMONTH=3
END:DAYLIGHT
BEGIN:STANDARD
TZOFFSETFROM:+0200
TZOFFSETTO:+0100
TZNAME:CET
DTSTART:19701025T030000
RRULE:FREQ=YEARLY;INTERVAL=1;BYDAY=-1SU;BYMONTH=10
END:STANDARD
END:VTIMEZONE
BEGIN:VEVENT
DTSTAMP:20260421T145242
DTSTART;TZID=Europe/Berlin:20260313T130000
DTEND;TZID=Europe/Berlin:20260313T141500
UID:BH3007-20260313T130000@VHSALTENBURGER LAND
SUMMARY:Ganzheitliche Stressbewältigung und Entspannung (BH3007) 
LOCATION:VHS ABG, Hospitalplatz 6, Raum 20, Hospitalplatz 6, 04600 Altenburg
END:VEVENT
BEGIN:VEVENT
DTSTAMP:20260421T145242
DTSTART;TZID=Europe/Berlin:20260320T130000
DTEND;TZID=Europe/Berlin:20260320T141500
UID:BH3007-20260320T130000@VHSALTENBURGER LAND
SUMMARY:Ganzheitliche Stressbewältigung und Entspannung (BH3007) 
LOCATION:VHS ABG, Hospitalplatz 6, Raum 20, Hospitalplatz 6, 04600 Altenburg
END:VEVENT
BEGIN:VEVENT
DTSTAMP:20260421T145242
DTSTART;TZID=Europe/Berlin:20260327T130000
DTEND;TZID=Europe/Berlin:20260327T141500
UID:BH3007-20260327T130000@VHSALTENBURGER LAND
SUMMARY:Ganzheitliche Stressbewältigung und Entspannung (BH3007) 
LOCATION:VHS ABG, Hospitalplatz 6, Raum 20, Hospitalplatz 6, 04600 Altenburg
END:VEVENT
BEGIN:VEVENT
DTSTAMP:20260421T145242
DTSTART;TZID=Europe/Berlin:20260424T130000
DTEND;TZID=Europe/Berlin:20260424T141500
UID:BH3007-20260424T130000@VHSALTENBURGER LAND
SUMMARY:Ganzheitliche Stressbewältigung und Entspannung (BH3007) 
LOCATION:VHS ABG, Hospitalplatz 6, Raum 20, Hospitalplatz 6, 04600 Altenburg
END:VEVENT
BEGIN:VEVENT
DTSTAMP:20260421T145242
DTSTART;TZID=Europe/Berlin:20260522T130000
DTEND;TZID=Europe/Berlin:20260522T141500
UID:BH3007-20260522T130000@VHSALTENBURGER LAND
SUMMARY:Ganzheitliche Stressbewältigung und Entspannung (BH3007) 
LOCATION:VHS ABG, Hospitalplatz 6, Raum 20, Hospitalplatz 6, 04600 Altenburg
END:VEVENT
END:VCALENDAR