BEGIN:VCALENDAR
VERSION:2.0
PRODID:https://www.kufer.de/kuferweb / DE
METHOD:PUBLISH
CALSCALE:GREGORIAN
X-WR-TIMEZONE:Europe/Berlin
BEGIN:VTIMEZONE
TZID:Europe/Berlin
X-LIC-LOCATION:Europe/Berlin
BEGIN:DAYLIGHT
TZOFFSETFROM:+0100
TZOFFSETTO:+0200
TZNAME:CEST
DTSTART:19700329T020000
RRULE:FREQ=YEARLY;INTERVAL=1;BYDAY=-1SU;BYMONTH=3
END:DAYLIGHT
BEGIN:STANDARD
TZOFFSETFROM:+0200
TZOFFSETTO:+0100
TZNAME:CET
DTSTART:19701025T030000
RRULE:FREQ=YEARLY;INTERVAL=1;BYDAY=-1SU;BYMONTH=10
END:STANDARD
END:VTIMEZONE
BEGIN:VEVENT
DTSTAMP:20260421T095848
DTSTART;TZID=Europe/Berlin:20260324T173000
DTEND;TZID=Europe/Berlin:20260324T194500
UID:BH2015-20260324T173000@VHSALTENBURGER LAND
SUMMARY:Das eigene Fotobuch gestalten (BH2015) 
LOCATION:VHS ABG, Hospitalplatz 6, Raum 6 - PC, Hospitalplatz 6, 04600 Altenburg
END:VEVENT
BEGIN:VEVENT
DTSTAMP:20260421T095848
DTSTART;TZID=Europe/Berlin:20260331T173000
DTEND;TZID=Europe/Berlin:20260331T194500
UID:BH2015-20260331T173000@VHSALTENBURGER LAND
SUMMARY:Das eigene Fotobuch gestalten (BH2015) 
LOCATION:VHS ABG, Hospitalplatz 6, Raum 6 - PC, Hospitalplatz 6, 04600 Altenburg
END:VEVENT
BEGIN:VEVENT
DTSTAMP:20260421T095848
DTSTART;TZID=Europe/Berlin:20260428T173000
DTEND;TZID=Europe/Berlin:20260428T194500
UID:BH2015-20260428T173000@VHSALTENBURGER LAND
SUMMARY:Das eigene Fotobuch gestalten (BH2015) 
LOCATION:VHS ABG, Hospitalplatz 6, Raum 6 - PC, Hospitalplatz 6, 04600 Altenburg
END:VEVENT
END:VCALENDAR