BEGIN:VCALENDAR
VERSION:2.0
PRODID:https://www.kufer.de/kuferweb / DE
METHOD:PUBLISH
CALSCALE:GREGORIAN
X-WR-TIMEZONE:Europe/Berlin
BEGIN:VTIMEZONE
TZID:Europe/Berlin
X-LIC-LOCATION:Europe/Berlin
BEGIN:DAYLIGHT
TZOFFSETFROM:+0100
TZOFFSETTO:+0200
TZNAME:CEST
DTSTART:19700329T020000
RRULE:FREQ=YEARLY;INTERVAL=1;BYDAY=-1SU;BYMONTH=3
END:DAYLIGHT
BEGIN:STANDARD
TZOFFSETFROM:+0200
TZOFFSETTO:+0100
TZNAME:CET
DTSTART:19701025T030000
RRULE:FREQ=YEARLY;INTERVAL=1;BYDAY=-1SU;BYMONTH=10
END:STANDARD
END:VTIMEZONE
BEGIN:VEVENT
DTSTAMP:20260421T102049
DTSTART;TZID=Europe/Berlin:20260313T200000
DTEND;TZID=Europe/Berlin:20260313T220000
UID:BH2001-20260313T200000@VHSALTENBURGER LAND
SUMMARY:LiteraturBar – der vhs-Lesekreis (BH2001) 
LOCATION:Restaurant Brühl 7, Brühl 7, 04600 Altenburg
END:VEVENT
BEGIN:VEVENT
DTSTAMP:20260421T102049
DTSTART;TZID=Europe/Berlin:20260417T200000
DTEND;TZID=Europe/Berlin:20260417T220000
UID:BH2001-20260417T200000@VHSALTENBURGER LAND
SUMMARY:LiteraturBar – der vhs-Lesekreis (BH2001) 
LOCATION:Restaurant Brühl 7, Brühl 7, 04600 Altenburg
END:VEVENT
BEGIN:VEVENT
DTSTAMP:20260421T102049
DTSTART;TZID=Europe/Berlin:20260522T200000
DTEND;TZID=Europe/Berlin:20260522T220000
UID:BH2001-20260522T200000@VHSALTENBURGER LAND
SUMMARY:LiteraturBar – der vhs-Lesekreis (BH2001) 
LOCATION:Restaurant Brühl 7, Brühl 7, 04600 Altenburg
END:VEVENT
BEGIN:VEVENT
DTSTAMP:20260421T102049
DTSTART;TZID=Europe/Berlin:20260619T200000
DTEND;TZID=Europe/Berlin:20260619T220000
UID:BH2001-20260619T200000@VHSALTENBURGER LAND
SUMMARY:LiteraturBar – der vhs-Lesekreis (BH2001) 
LOCATION:Restaurant Brühl 7, Brühl 7, 04600 Altenburg
END:VEVENT
END:VCALENDAR