BEGIN:VCALENDAR
VERSION:2.0
PRODID:https://www.kufer.de/kuferweb / DE
METHOD:PUBLISH
CALSCALE:GREGORIAN
X-WR-TIMEZONE:Europe/Berlin
BEGIN:VTIMEZONE
TZID:Europe/Berlin
X-LIC-LOCATION:Europe/Berlin
BEGIN:DAYLIGHT
TZOFFSETFROM:+0100
TZOFFSETTO:+0200
TZNAME:CEST
DTSTART:19700329T020000
RRULE:FREQ=YEARLY;INTERVAL=1;BYDAY=-1SU;BYMONTH=3
END:DAYLIGHT
BEGIN:STANDARD
TZOFFSETFROM:+0200
TZOFFSETTO:+0100
TZNAME:CET
DTSTART:19701025T030000
RRULE:FREQ=YEARLY;INTERVAL=1;BYDAY=-1SU;BYMONTH=10
END:STANDARD
END:VTIMEZONE
BEGIN:VEVENT
DTSTAMP:20260421T123625
DTSTART;TZID=Europe/Berlin:20260319T180000
DTEND;TZID=Europe/Berlin:20260319T200000
UID:BG3107-20260319T180000@VHSALTENBURGER LAND
SUMMARY:Selbsthilfegruppe Lipödem (BG3107) 
LOCATION:VHS ABG, Hospitalplatz 6, Raum 16, Hospitalplatz 6, 04600 Altenburg
END:VEVENT
BEGIN:VEVENT
DTSTAMP:20260421T123625
DTSTART;TZID=Europe/Berlin:20260423T180000
DTEND;TZID=Europe/Berlin:20260423T200000
UID:BG3107-20260423T180000@VHSALTENBURGER LAND
SUMMARY:Selbsthilfegruppe Lipödem (BG3107) 
LOCATION:VHS ABG, Hospitalplatz 6, Raum 16, Hospitalplatz 6, 04600 Altenburg
END:VEVENT
BEGIN:VEVENT
DTSTAMP:20260421T123625
DTSTART;TZID=Europe/Berlin:20260521T180000
DTEND;TZID=Europe/Berlin:20260521T200000
UID:BG3107-20260521T180000@VHSALTENBURGER LAND
SUMMARY:Selbsthilfegruppe Lipödem (BG3107) 
LOCATION:VHS ABG, Hospitalplatz 6, Raum 16, Hospitalplatz 6, 04600 Altenburg
END:VEVENT
BEGIN:VEVENT
DTSTAMP:20260421T123625
DTSTART;TZID=Europe/Berlin:20260618T180000
DTEND;TZID=Europe/Berlin:20260618T200000
UID:BG3107-20260618T180000@VHSALTENBURGER LAND
SUMMARY:Selbsthilfegruppe Lipödem (BG3107) 
LOCATION:VHS ABG, Hospitalplatz 6, Raum 9, Hospitalplatz 6, 04600 Altenburg
END:VEVENT
BEGIN:VEVENT
DTSTAMP:20260421T123625
DTSTART;TZID=Europe/Berlin:20260820T180000
DTEND;TZID=Europe/Berlin:20260820T200000
UID:BG3107-20260820T180000@VHSALTENBURGER LAND
SUMMARY:Selbsthilfegruppe Lipödem (BG3107) 
LOCATION:VHS ABG, Hospitalplatz 6, Raum 9, Hospitalplatz 6, 04600 Altenburg
END:VEVENT
BEGIN:VEVENT
DTSTAMP:20260421T123625
DTSTART;TZID=Europe/Berlin:20260917T180000
DTEND;TZID=Europe/Berlin:20260917T200000
UID:BG3107-20260917T180000@VHSALTENBURGER LAND
SUMMARY:Selbsthilfegruppe Lipödem (BG3107) 
LOCATION:VHS ABG, Hospitalplatz 6, Raum 9, Hospitalplatz 6, 04600 Altenburg
END:VEVENT
BEGIN:VEVENT
DTSTAMP:20260421T123625
DTSTART;TZID=Europe/Berlin:20261008T180000
DTEND;TZID=Europe/Berlin:20261008T200000
UID:BG3107-20261008T180000@VHSALTENBURGER LAND
SUMMARY:Selbsthilfegruppe Lipödem (BG3107) 
LOCATION:VHS ABG, Hospitalplatz 6, Raum 9, Hospitalplatz 6, 04600 Altenburg
END:VEVENT
BEGIN:VEVENT
DTSTAMP:20260421T123625
DTSTART;TZID=Europe/Berlin:20261112T180000
DTEND;TZID=Europe/Berlin:20261112T200000
UID:BG3107-20261112T180000@VHSALTENBURGER LAND
SUMMARY:Selbsthilfegruppe Lipödem (BG3107) 
LOCATION:VHS ABG, Hospitalplatz 6, Raum 9, Hospitalplatz 6, 04600 Altenburg
END:VEVENT
BEGIN:VEVENT
DTSTAMP:20260421T123625
DTSTART;TZID=Europe/Berlin:20261210T180000
DTEND;TZID=Europe/Berlin:20261210T200000
UID:BG3107-20261210T180000@VHSALTENBURGER LAND
SUMMARY:Selbsthilfegruppe Lipödem (BG3107) 
LOCATION:VHS ABG, Hospitalplatz 6, Raum 9, Hospitalplatz 6, 04600 Altenburg
END:VEVENT
END:VCALENDAR