BEGIN:VCALENDAR
VERSION:2.0
PRODID:https://www.kufer.de/kuferweb / DE
METHOD:PUBLISH
CALSCALE:GREGORIAN
X-WR-TIMEZONE:Europe/Berlin
BEGIN:VTIMEZONE
TZID:Europe/Berlin
X-LIC-LOCATION:Europe/Berlin
BEGIN:DAYLIGHT
TZOFFSETFROM:+0100
TZOFFSETTO:+0200
TZNAME:CEST
DTSTART:19700329T020000
RRULE:FREQ=YEARLY;INTERVAL=1;BYDAY=-1SU;BYMONTH=3
END:DAYLIGHT
BEGIN:STANDARD
TZOFFSETFROM:+0200
TZOFFSETTO:+0100
TZNAME:CET
DTSTART:19701025T030000
RRULE:FREQ=YEARLY;INTERVAL=1;BYDAY=-1SU;BYMONTH=10
END:STANDARD
END:VTIMEZONE
BEGIN:VEVENT
DTSTAMP:20260419T155619
DTSTART;TZID=Europe/Berlin:20260122T200000
DTEND;TZID=Europe/Berlin:20260122T210000
UID:BG3040-1-20260122T200000@VHSALTENBURGER LAND
SUMMARY:Fit für den Alltag - Ganzkörperkräftigung (10x60) (BG3040-1) 
LOCATION:Saal Lohsenstr. 25, Lohsenstraße 25, 04626 Schmölln
END:VEVENT
BEGIN:VEVENT
DTSTAMP:20260419T155619
DTSTART;TZID=Europe/Berlin:20260129T200000
DTEND;TZID=Europe/Berlin:20260129T210000
UID:BG3040-1-20260129T200000@VHSALTENBURGER LAND
SUMMARY:Fit für den Alltag - Ganzkörperkräftigung (10x60) (BG3040-1) 
LOCATION:Saal Lohsenstr. 25, Lohsenstraße 25, 04626 Schmölln
END:VEVENT
BEGIN:VEVENT
DTSTAMP:20260419T155619
DTSTART;TZID=Europe/Berlin:20260205T200000
DTEND;TZID=Europe/Berlin:20260205T210000
UID:BG3040-1-20260205T200000@VHSALTENBURGER LAND
SUMMARY:Fit für den Alltag - Ganzkörperkräftigung (10x60) (BG3040-1) 
LOCATION:Saal Lohsenstr. 25, Lohsenstraße 25, 04626 Schmölln
END:VEVENT
BEGIN:VEVENT
DTSTAMP:20260419T155619
DTSTART;TZID=Europe/Berlin:20260212T200000
DTEND;TZID=Europe/Berlin:20260212T210000
UID:BG3040-1-20260212T200000@VHSALTENBURGER LAND
SUMMARY:Fit für den Alltag - Ganzkörperkräftigung (10x60) (BG3040-1) 
LOCATION:Saal Lohsenstr. 25, Lohsenstraße 25, 04626 Schmölln
END:VEVENT
BEGIN:VEVENT
DTSTAMP:20260419T155619
DTSTART;TZID=Europe/Berlin:20260219T200000
DTEND;TZID=Europe/Berlin:20260219T210000
UID:BG3040-1-20260219T200000@VHSALTENBURGER LAND
DESCRIPTION:für Ausfall am 26.02.2026
SUMMARY:Fit für den Alltag - Ganzkörperkräftigung (10x60) (BG3040-1) 
LOCATION:Saal Lohsenstr. 25, Lohsenstraße 25, 04626 Schmölln
END:VEVENT
BEGIN:VEVENT
DTSTAMP:20260419T155619
DTSTART;TZID=Europe/Berlin:20260305T200000
DTEND;TZID=Europe/Berlin:20260305T210000
UID:BG3040-1-20260305T200000@VHSALTENBURGER LAND
SUMMARY:Fit für den Alltag - Ganzkörperkräftigung (10x60) (BG3040-1) 
LOCATION:Saal Lohsenstr. 25, Lohsenstraße 25, 04626 Schmölln
END:VEVENT
BEGIN:VEVENT
DTSTAMP:20260419T155619
DTSTART;TZID=Europe/Berlin:20260319T200000
DTEND;TZID=Europe/Berlin:20260319T210000
UID:BG3040-1-20260319T200000@VHSALTENBURGER LAND
SUMMARY:Fit für den Alltag - Ganzkörperkräftigung (10x60) (BG3040-1) 
LOCATION:Saal Lohsenstr. 25, Lohsenstraße 25, 04626 Schmölln
END:VEVENT
BEGIN:VEVENT
DTSTAMP:20260419T155619
DTSTART;TZID=Europe/Berlin:20260326T200000
DTEND;TZID=Europe/Berlin:20260326T210000
UID:BG3040-1-20260326T200000@VHSALTENBURGER LAND
SUMMARY:Fit für den Alltag - Ganzkörperkräftigung (10x60) (BG3040-1) 
LOCATION:Saal Lohsenstr. 25, Lohsenstraße 25, 04626 Schmölln
END:VEVENT
BEGIN:VEVENT
DTSTAMP:20260419T155619
DTSTART;TZID=Europe/Berlin:20260402T200000
DTEND;TZID=Europe/Berlin:20260402T210000
UID:BG3040-1-20260402T200000@VHSALTENBURGER LAND
SUMMARY:Fit für den Alltag - Ganzkörperkräftigung (10x60) (BG3040-1) 
LOCATION:Saal Lohsenstr. 25, Lohsenstraße 25, 04626 Schmölln
END:VEVENT
BEGIN:VEVENT
DTSTAMP:20260419T155619
DTSTART;TZID=Europe/Berlin:20260430T200000
DTEND;TZID=Europe/Berlin:20260430T210000
UID:BG3040-1-20260430T200000@VHSALTENBURGER LAND
DESCRIPTION:Für Ausfall am 12.03.26
SUMMARY:Fit für den Alltag - Ganzkörperkräftigung (10x60) (BG3040-1) 
LOCATION:Saal Lohsenstr. 25, Lohsenstraße 25, 04626 Schmölln
END:VEVENT
END:VCALENDAR