BEGIN:VCALENDAR
VERSION:2.0
PRODID:https://www.kufer.de/kuferweb / DE
METHOD:PUBLISH
CALSCALE:GREGORIAN
X-WR-TIMEZONE:Europe/Berlin
BEGIN:VTIMEZONE
TZID:Europe/Berlin
X-LIC-LOCATION:Europe/Berlin
BEGIN:DAYLIGHT
TZOFFSETFROM:+0100
TZOFFSETTO:+0200
TZNAME:CEST
DTSTART:19700329T020000
RRULE:FREQ=YEARLY;INTERVAL=1;BYDAY=-1SU;BYMONTH=3
END:DAYLIGHT
BEGIN:STANDARD
TZOFFSETFROM:+0200
TZOFFSETTO:+0100
TZNAME:CET
DTSTART:19701025T030000
RRULE:FREQ=YEARLY;INTERVAL=1;BYDAY=-1SU;BYMONTH=10
END:STANDARD
END:VTIMEZONE
BEGIN:VEVENT
DTSTAMP:20260421T123646
DTSTART;TZID=Europe/Berlin:20260120T181500
DTEND;TZID=Europe/Berlin:20260120T191500
UID:BG3030-1-20260120T181500@VHSALTENBURGER LAND
SUMMARY:Pilates (BG3030-1) 
LOCATION:VHS ABG, Hospitalplatz 6, Raum 20, Hospitalplatz 6, 04600 Altenburg
END:VEVENT
BEGIN:VEVENT
DTSTAMP:20260421T123646
DTSTART;TZID=Europe/Berlin:20260127T181500
DTEND;TZID=Europe/Berlin:20260127T191500
UID:BG3030-1-20260127T181500@VHSALTENBURGER LAND
SUMMARY:Pilates (BG3030-1) 
LOCATION:VHS ABG, Hospitalplatz 6, Raum 20, Hospitalplatz 6, 04600 Altenburg
END:VEVENT
BEGIN:VEVENT
DTSTAMP:20260421T123646
DTSTART;TZID=Europe/Berlin:20260203T181500
DTEND;TZID=Europe/Berlin:20260203T191500
UID:BG3030-1-20260203T181500@VHSALTENBURGER LAND
SUMMARY:Pilates (BG3030-1) 
LOCATION:VHS ABG, Hospitalplatz 6, Raum 20, Hospitalplatz 6, 04600 Altenburg
END:VEVENT
BEGIN:VEVENT
DTSTAMP:20260421T123646
DTSTART;TZID=Europe/Berlin:20260224T181500
DTEND;TZID=Europe/Berlin:20260224T191500
UID:BG3030-1-20260224T181500@VHSALTENBURGER LAND
SUMMARY:Pilates (BG3030-1) 
LOCATION:VHS ABG, Hospitalplatz 6, Raum 20, Hospitalplatz 6, 04600 Altenburg
END:VEVENT
BEGIN:VEVENT
DTSTAMP:20260421T123646
DTSTART;TZID=Europe/Berlin:20260303T181500
DTEND;TZID=Europe/Berlin:20260303T191500
UID:BG3030-1-20260303T181500@VHSALTENBURGER LAND
SUMMARY:Pilates (BG3030-1) 
LOCATION:VHS ABG, Hospitalplatz 6, Raum 20, Hospitalplatz 6, 04600 Altenburg
END:VEVENT
BEGIN:VEVENT
DTSTAMP:20260421T123646
DTSTART;TZID=Europe/Berlin:20260317T181500
DTEND;TZID=Europe/Berlin:20260317T191500
UID:BG3030-1-20260317T181500@VHSALTENBURGER LAND
SUMMARY:Pilates (BG3030-1) 
LOCATION:VHS ABG, Hospitalplatz 6, Raum 20, Hospitalplatz 6, 04600 Altenburg
END:VEVENT
BEGIN:VEVENT
DTSTAMP:20260421T123646
DTSTART;TZID=Europe/Berlin:20260331T181500
DTEND;TZID=Europe/Berlin:20260331T191500
UID:BG3030-1-20260331T181500@VHSALTENBURGER LAND
SUMMARY:Pilates (BG3030-1) 
LOCATION:VHS ABG, Hospitalplatz 6, Raum 20, Hospitalplatz 6, 04600 Altenburg
END:VEVENT
BEGIN:VEVENT
DTSTAMP:20260421T123646
DTSTART;TZID=Europe/Berlin:20260421T181500
DTEND;TZID=Europe/Berlin:20260421T191500
UID:BG3030-1-20260421T181500@VHSALTENBURGER LAND
SUMMARY:Pilates (BG3030-1) 
LOCATION:VHS ABG, Hospitalplatz 6, Raum 20, Hospitalplatz 6, 04600 Altenburg
END:VEVENT
END:VCALENDAR